Workbook

Sheet BDD
A1: BASE DE DONNEES | D1: Taille BDD : | E1: =COUNTIF(G12:AJ12,">0") -> 7
A3: Index OP : | G3: =1 -> 1 | H3: =G3+1 -> 2 | I3: =H3+1 -> 3 | J3: =I3+1 -> 4 | K3: =J3+1 -> 5 | L3: =K3+1 -> 6 | M3: =L3+1 -> 7 | N3: =M3+1 -> 8 | O3: =N3+1 -> 9 | ... AJ3: =AI3+1 -> 30
A4: Nom programme : | D4: TOTAL | E4: % TOTAL | F4: FREQUENCE | G4: RICHWILLER Forêt | H4: MATZENHEIM Strasbourg | I4: BLOTZHEIM Tilleul | J4: MUNDOLSHEIM Poste | K4: WOLFISHEIM Jardins | L4: STRASBOURG Urbanity | M4: RIXHEIM Mulhouse | N4: OP 8 | O4: OP 9 | P4: OP 10 | Q4: OP 11 | R4: OP 12 | S4: OP 13 | T4: OP 14 | U4: OP 15 | V4: OP 16 | W4: OP 17 | X4: OP 18 | Y4: OP 19 | Z4: OP 20 | AA4: OP 21 | AB4: OP 22 | AC4: OP 23 | AD4: OP 24 | AE4: OP 25 | AF4: OP 26 | AG4: OP 27 | AH4: OP 28 | AI4: OP 29 | AJ4: OP 30
A5: Adresse : | G5: Rue de la Forêt | H5: Rue de Strasbourg | I5: Rue du Tilleul | J5: Rue de la Poste | K5: Rue des Jardins | L5: Rue Antoine Heitzmann | M5: Rue de Mulhouse | N5: 0 | O5: 0 | P5: 0 | Q5: 0 | R5: 0 | S5: 0 | T5: 0 | U5: 0 | V5: 0 | W5: 0 | X5: 0 | Y5: 0 | Z5: 0 | AA5: 0 | AB5: 0 | AC5: 0 | AD5: 0 | AE5: 0 | AF5: 0 | AG5: 0 | AH5: 0 | AI5: 0 | AJ5: 0
A6: Département : | G6: 68 | H6: 67 | I6: 68 | J6: 67 | K6: 67 | L6: 67 | M6: 68 | N6: 0 | O6: 0 | P6: 0 | Q6: 0 | R6: 0 | S6: 0 | T6: 0 | U6: 0 | V6: 0 | W6: 0 | X6: 0 | Y6: 0 | Z6: 0 | AA6: 0 | AB6: 0 | AC6: 0 | AD6: 0 | AE6: 0 | AF6: 0 | AG6: 0 | AH6: 0 | AI6: 0 | AJ6: 0
A7: N° OP : | G7: 3276-1 | H7: 3277-1 | I7: 3295-1 | J7: 3297 | K7: 3369 | L7: 3357 | M7: 3315 | N7: 0 | O7: 0 | P7: 0 | Q7: 0 | R7: 0 | S7: 0 | T7: 0 | U7: 0 | V7: 0 | W7: 0 | X7: 0 | Y7: 0 | Z7: 0 | AA7: 0 | AB7: 0 | AC7: 0 | AD7: 0 | AE7: 0 | AF7: 0 | AG7: 0 | AH7: 0 | AI7: 0 | AJ7: 0
A8: Responsable de programme : | G8: V.F | H8: N.N | I8: T.M | J8: T.M | K8: V.F | L8: N.N | M8: M.N
A9: Date adjudication : | G9: 43466 | H9: 43983 | I9: 44105 | J9: 44166 | K9: 44166 | L9: 44228 | M9: 44228 | N9: 0 | O9: 0 | P9: 0 | Q9: 0 | R9: 0 | S9: 0 | T9: 0 | U9: 0 | V9: 0 | W9: 0 | X9: 0 | Y9: 0 | Z9: 0 | AA9: 0 | AB9: 0 | AC9: 0 | AD9: 0 | AE9: 0 | AF9: 0 | AG9: 0 | AH9: 0 | AI9: 0 | AJ9: 0
A10: Date ajout BDD : | G10: 44249 | H10: 44249 | I10: 44249 | J10: 44249 | K10: 44249 | L10: 44249 | M10: 44249 | N10: 0 | O10: 0 | P10: 0 | Q10: 0 | R10: 0 | S10: 0 | T10: 0 | U10: 0 | V10: 0 | W10: 0 | X10: 0 | Y10: 0 | Z10: 0 | AA10: 0 | AB10: 0 | AC10: 0 | AD10: 0 | AE10: 0 | AF10: 0 | AG10: 0 | AH10: 0 | AI10: 0 | AJ10: 0
A11: Nombre logts : | G11: 21 | H11: 25 | I11: 35 | J11: 12 | K11: 8 | L11: 35 | M11: 18 | N11: 0 | P11: 0 | Q11: 0 | R11: 0 | S11: 0 | T11: 0 | U11: 0 | V11: 0 | W11: 0 | X11: 0 | Y11: 0 | Z11: 0 | AA11: 0 | AB11: 0 | AC11: 0 | AD11: 0 | AE11: 0 | AF11: 0 | AG11: 0 | AH11: 0 | AI11: 0 | AJ11: 0
A12: Shab [m²] : | G12: 1394.55 | H12: 1531 | I12: 2137.91 | J12: 848.16 | K12: 572.13 | L12: 2206.5 | M12: 1075.5 | N12: 0 | P12: 0 | Q12: 0 | R12: 0 | S12: 0 | T12: 0 | U12: 0 | V12: 0 | W12: 0 | X12: 0 | Y12: 0 | Z12: 0 | AA12: 0 | AB12: 0 | AC12: 0 | AD12: 0 | AE12: 0 | AF12: 0 | AG12: 0 | AH12: 0 | AI12: 0 | AJ12: 0
A14: Famille | B14: n° LOT | C14: LOT | D14: =SUM(G14:AJ14) -> 14068482 | E14: =SUM(E15:E71) -> 1 | G14: =SUM(G15:G46) -> 2049570 | H14: =SUM(H15:H46) -> 2115234 | I14: =SUM(I15:I46) -> 2592220 | J14: =SUM(J15:J46) -> 1416773 | K14: =SUM(K15:K46) -> 902475 | L14: =SUM(L15:L46) -> 3274452 | M14: =SUM(M15:M46) -> 1717758
A15: AUTRE | B15: 1 | C15: Démolitions | D15: =SUM(G15:AJ15) -> 64952 | E15: =D15/$D$14 -> 0.0046168449 | F15: =COUNTIF(G15:AJ15,">0")/$E$1 -> 0.28571429 | G15: 0 | H15: 0 | I15: 0 | J15: 19000 | K15: 0 | L15: 0 | M15: 45952
A16: VRD/EV | B16: 2 | C16: Terrassements généraux | D16: =SUM(G16:AJ16) -> 115174 | E16: =D16/$D$14 -> 0.0081866686 | F16: =COUNTIF(G16:AJ16,">0")/$E$1 -> 0.28571429 | G16: 56000 | H16: 0 | I16: 0 | J16: 0 | K16: 0 | L16: 0 | M16: 59174
A17: MGO | B17: 3 | C17: Maçonnerie Gros œuvre | D17: =SUM(G17:AJ17) -> 4581034 | E17: =D17/$D$14 -> 0.3256239 | F17: =COUNTIF(G17:AJ17,">0")/$E$1 -> 1 | G17: 660000 | H17: 628506 | I17: 908000 | J17: 438200 | K17: 174798 | L17: 1276007 | M17: 495523
A18: VRD/EV | B18: 4a | C18: Terrassement / Voirie | D18: =SUM(G18:AJ18) -> 433932 | E18: =D18/$D$14 -> 0.030844266 | F18: =COUNTIF(G18:AJ18,">0")/$E$1 -> 0.71428571 | G18: 86871 | H18: 84257 | I18: 99727 | J18: 54259 | K18: 0 | L18: 0 | M18: 108818
A19: VRD/EV | B19: 4b | C19: Réseaux Extérieurs | D19: =SUM(G19:AJ19) -> 355280 | E19: =D19/$D$14 -> 0.025253613 | F19: =COUNTIF(G19:AJ19,">0")/$E$1 -> 0.71428571 | G19: 0 | H19: 91500 | I19: 45150 | J19: 108611 | K19: 46379 | L19: 63640 | M19: 0
A20: CC | B20: 5 | C20: Charpente / Femettes | D20: =SUM(G20:AJ20) -> 139023 | E20: =D20/$D$14 -> 0.0098818764 | F20: =COUNTIF(G20:AJ20,">0")/$E$1 -> 0.57142857 | G20: 0 | H20: 77586 | I20: 0 | J20: 28230 | K20: 28947 | L20: 4260 | M20: 0
A21: CC | B21: 6 | C21: Couverture / Zinguerie | D21: =SUM(G21:AJ21) -> 257818 | E21: =D21/$D$14 -> 0.018325929 | F21: =COUNTIF(G21:AJ21,">0")/$E$1 -> 0.57142857 | G21: 0 | H21: 121998 | I21: 0 | J21: 47500 | K21: 60021 | L21: 28299 | M21: 0
A22: CC | B22: 7 | C22: Etanchéité | D22: =SUM(G22:AJ22) -> 497902 | E22: =D22/$D$14 -> 0.035391309 | F22: =COUNTIF(G22:AJ22,">0")/$E$1 -> 0.71428571 | G22: 123000 | H22: 0 | I22: 119745 | J22: 0 | K22: 9422 | L22: 157007 | M22: 88728
A23: CC | B23: 8 | C23: Menuiseries extérieures PVC | D23: =SUM(G23:AJ23) -> 581253 | E23: =D23/$D$14 -> 0.041315971 | F23: =COUNTIF(G23:AJ23,">0")/$E$1 -> 1 | G23: 89514 | H23: 110000 | I23: 102000 | J23: 49310 | K23: 49750 | L23: 115894 | M23: 64785
A24: PI | B24: 9 | C24: Menuiseries intérieures | D24: =SUM(G24:AJ24) -> 569840 | E24: =D24/$D$14 -> 0.040504725 | F24: =COUNTIF(G24:AJ24,">0")/$E$1 -> 1 | G24: 76601 | H24: 82024 | I24: 119000 | J24: 62084 | K24: 31572 | L24: 139973 | M24: 58586
A25: ISO | B25: 10 | C25: Cloisons / Doublages / Isolation | D25: =SUM(G25:AJ25) -> 512126 | E25: =D25/$D$14 -> 0.036402364 | F25: =COUNTIF(G25:AJ25,">0")/$E$1 -> 0.85714286 | G25: 90498 | H25: 0 | I25: 106739 | J25: 83019 | K25: 51470 | L25: 131400 | M25: 49000
A26: PI | B26: 11 | C26: Revêtements de sol collés | D26: =SUM(G26:AJ26) -> 278036 | E26: =D26/$D$14 -> 0.019763042 | F26: =COUNTIF(G26:AJ26,">0")/$E$1 -> 1 | G26: 39000 | H26: 46500 | I26: 66020 | J26: 30088 | K26: 16313 | L26: 57615 | M26: 22500
A27: PI | B27: 12 | C27: Carrelages / Faïences | D27: =SUM(G27:AJ27) -> 287077 | E27: =D27/$D$14 -> 0.020405684 | F27: =COUNTIF(G27:AJ27,">0")/$E$1 -> 1 | G27: 56000 | H27: 39000 | I27: 81500 | J27: 13601 | K27: 12019 | L27: 39839 | M27: 45118
A28: PI | B28: 13 | C28: Revêtements murs et plafonds | D28: =SUM(G28:AJ28) -> 383986 | E28: =D28/$D$14 -> 0.027294061 | F28: =COUNTIF(G28:AJ28,">0")/$E$1 -> 1 | G28: 45600 | H28: 81840 | I28: 72886 | J28: 34872 | K28: 24632 | L28: 83859 | M28: 40297
A29: CC | B29: 14 | C29: Serrurerie | D29: =SUM(G29:AJ29) -> 544515 | E29: =D29/$D$14 -> 0.038704602 | F29: =COUNTIF(G29:AJ29,">0")/$E$1 -> 1 | G29: 62706 | H29: 67124 | I29: 123363 | J29: 17534 | K29: 44829 | L29: 161242 | M29: 67717
A30: AUTRE | B30: 15 | C30: Portes de garage | D30: =SUM(G30:AJ30) -> 28334 | E30: =D30/$D$14 -> 0.0020140055 | F30: =COUNTIF(G30:AJ30,">0")/$E$1 -> 0.57142857 | G30: 13930 | H30: 7000 | I30: 4620 | J30: 0 | K30: 0 | L30: 0 | M30: 2784
A31: CHAUF | B31: 16 | C31: Chauffage | D31: =SUM(G31:AJ31) -> 825456 | E31: =D31/$D$14 -> 0.058674134 | F31: =COUNTIF(G31:AJ31,">0")/$E$1 -> 1 | G31: 122945 | H31: 106451 | I31: 166542 | J31: 121658 | K31: 50702 | L31: 170940 | M31: 86218
... A45: NC | B45: 39 | C45: Escalier bois | D45: =SUM(G45:AJ45) -> 8680 | E45: =D45/$D$14 -> 0.00061698199 | F45: =COUNTIF(G45:AJ45,">0")/$E$1 -> 0.14285714 | G45: 0 | H45: 0 | I45: 0 | J45: 0 | K45: 8680 | L45: 0 | M45: 0
A46: NC | B46: 2B | C46: Fondation spéciale pieu sécant | D46: =SUM(G46:AJ46) -> 200808 | E46: =D46/$D$14 -> 0.014273608 | F46: =COUNTIF(G46:AJ46,">0")/$E$1 -> 0.14285714 | M46: 200808
D47: =SUM(G47:AJ47) -> 0 | E47: =D47/$D$14 -> 0 | F47: =COUNTIF(G47:AJ47,">0")/$E$1 -> 0
D48: =SUM(G48:AJ48) -> 0 | E48: =D48/$D$14 -> 0 | F48: =COUNTIF(G48:AJ48,">0")/$E$1 -> 0
D49: =SUM(G49:AJ49) -> 0 | E49: =D49/$D$14 -> 0 | F49: =COUNTIF(G49:AJ49,">0")/$E$1 -> 0
D50: =SUM(G50:AJ50) -> 0 | E50: =D50/$D$14 -> 0 | F50: =COUNTIF(G50:AJ50,">0")/$E$1 -> 0
D51: =SUM(G51:AJ51) -> 0 | E51: =D51/$D$14 -> 0 | F51: =COUNTIF(G51:AJ51,">0")/$E$1 -> 0
D52: =SUM(G52:AJ52) -> 0 | E52: =D52/$D$14 -> 0 | F52: =COUNTIF(G52:AJ52,">0")/$E$1 -> 0
D53: =SUM(G53:AJ53) -> 0 | E53: =D53/$D$14 -> 0 | F53: =COUNTIF(G53:AJ53,">0")/$E$1 -> 0
D54: =SUM(G54:AJ54) -> 0 | E54: =D54/$D$14 -> 0 | F54: =COUNTIF(G54:AJ54,">0")/$E$1 -> 0
D55: =SUM(G55:AJ55) -> 0 | E55: =D55/$D$14 -> 0 | F55: =COUNTIF(G55:AJ55,">0")/$E$1 -> 0
D56: =SUM(G56:AJ56) -> 0 | E56: =D56/$D$14 -> 0 | F56: =COUNTIF(G56:AJ56,">0")/$E$1 -> 0
D57: =SUM(G57:AJ57) -> 0 | E57: =D57/$D$14 -> 0 | F57: =COUNTIF(G57:AJ57,">0")/$E$1 -> 0
D58: =SUM(G58:AJ58) -> 0 | E58: =D58/$D$14 -> 0 | F58: =COUNTIF(G58:AJ58,">0")/$E$1 -> 0
... D71: =SUM(G71:AJ71) -> 0 | E71: =D71/$D$14 -> 0 | F71: =COUNTIF(G71:AJ71,">0")/$E$1 -> 0
A75: VRD/EV | B75: VRD/EV/réseaux ext/terrassements généraux | D75: =SUM(G75:AJ75) -> 1210926 | E75: =D75/$D$14 -> 0.086073679 | G75: =SUMIF($A$15:$A$71,$A75,G$15:G$71) -> 173269 | H75: =SUMIF($A$15:$A$71,$A75,H$15:H$71) -> 213417 | I75: =SUMIF($A$15:$A$71,$A75,I$15:I$71) -> 188942 | J75: =SUMIF($A$15:$A$71,$A75,J$15:J$71) -> 214267 | K75: =SUMIF($A$15:$A$71,$A75,K$15:K$71) -> 87018 | L75: =SUMIF($A$15:$A$71,$A75,L$15:L$71) -> 138021 | M75: =SUMIF($A$15:$A$71,$A75,M$15:M$71) -> 195992 | N75: =SUMIF($A$15:$A$71,$A75,N$15:N$71) -> 0 | ... AJ75: =SUMIF($A$15:$A$71,$A75,AJ$15:AJ$71) -> 0
A76: MGO | B76: Maçonnerie gros œuvre | D76: =SUM(G76:AJ76) -> 4581034 | E76: =D76/$D$14 -> 0.3256239 | G76: =SUMIF($A$15:$A$71,$A76,G$15:G$71) -> 660000 | H76: =SUMIF($A$15:$A$71,$A76,H$15:H$71) -> 628506 | I76: =SUMIF($A$15:$A$71,$A76,I$15:I$71) -> 908000 | J76: =SUMIF($A$15:$A$71,$A76,J$15:J$71) -> 438200 | K76: =SUMIF($A$15:$A$71,$A76,K$15:K$71) -> 174798 | L76: =SUMIF($A$15:$A$71,$A76,L$15:L$71) -> 1276007 | M76: =SUMIF($A$15:$A$71,$A76,M$15:M$71) -> 495523 | N76: =SUMIF($A$15:$A$71,$A76,N$15:N$71) -> 0 | ... AJ76: =SUMIF($A$15:$A$71,$A76,AJ$15:AJ$71) -> 0
A77: CC | B77: Clos couvert / Enveloppe | D77: =SUM(G77:AJ77) -> 2129573 | E77: =D77/$D$14 -> 0.15137191 | G77: =SUMIF($A$15:$A$71,$A77,G$15:G$71) -> 275220 | H77: =SUMIF($A$15:$A$71,$A77,H$15:H$71) -> 398582 | I77: =SUMIF($A$15:$A$71,$A77,I$15:I$71) -> 373247 | J77: =SUMIF($A$15:$A$71,$A77,J$15:J$71) -> 154349 | K77: =SUMIF($A$15:$A$71,$A77,K$15:K$71) -> 204169 | L77: =SUMIF($A$15:$A$71,$A77,L$15:L$71) -> 491340 | M77: =SUMIF($A$15:$A$71,$A77,M$15:M$71) -> 232666 | N77: =SUMIF($A$15:$A$71,$A77,N$15:N$71) -> 0 | ... AJ77: =SUMIF($A$15:$A$71,$A77,AJ$15:AJ$71) -> 0
A78: PI | B78: Parties intérieures | D78: =SUM(G78:AJ78) -> 1734866 | E78: =D78/$D$14 -> 0.12331579 | G78: =SUMIF($A$15:$A$71,$A78,G$15:G$71) -> 258201 | H78: =SUMIF($A$15:$A$71,$A78,H$15:H$71) -> 288424 | I78: =SUMIF($A$15:$A$71,$A78,I$15:I$71) -> 385044 | J78: =SUMIF($A$15:$A$71,$A78,J$15:J$71) -> 155673 | K78: =SUMIF($A$15:$A$71,$A78,K$15:K$71) -> 99791 | L78: =SUMIF($A$15:$A$71,$A78,L$15:L$71) -> 365833 | M78: =SUMIF($A$15:$A$71,$A78,M$15:M$71) -> 181900 | N78: =SUMIF($A$15:$A$71,$A78,N$15:N$71) -> 0 | ... AJ78: =SUMIF($A$15:$A$71,$A78,AJ$15:AJ$71) -> 0
A79: ISO | B79: Isolation | D79: =SUM(G79:AJ79) -> 1053730 | E79: =D79/$D$14 -> 0.07490005 | G79: =SUMIF($A$15:$A$71,$A79,G$15:G$71) -> 264395 | H79: =SUMIF($A$15:$A$71,$A79,H$15:H$71) -> 97963 | I79: =SUMIF($A$15:$A$71,$A79,I$15:I$71) -> 166739 | J79: =SUMIF($A$15:$A$71,$A79,J$15:J$71) -> 108819 | K79: =SUMIF($A$15:$A$71,$A79,K$15:K$71) -> 84799 | L79: =SUMIF($A$15:$A$71,$A79,L$15:L$71) -> 253928 | M79: =SUMIF($A$15:$A$71,$A79,M$15:M$71) -> 77087 | N79: =SUMIF($A$15:$A$71,$A79,N$15:N$71) -> 0 | ... AJ79: =SUMIF($A$15:$A$71,$A79,AJ$15:AJ$71) -> 0
A80: CHAUF | B80: Chauffage / VMC | D80: =SUM(G80:AJ80) -> 1012247 | E80: =D80/$D$14 -> 0.071951402 | G80: =SUMIF($A$15:$A$71,$A80,G$15:G$71) -> 141736 | H80: =SUMIF($A$15:$A$71,$A80,H$15:H$71) -> 131921 | I80: =SUMIF($A$15:$A$71,$A80,I$15:I$71) -> 196051 | J80: =SUMIF($A$15:$A$71,$A80,J$15:J$71) -> 137064 | K80: =SUMIF($A$15:$A$71,$A80,K$15:K$71) -> 63124 | L80: =SUMIF($A$15:$A$71,$A80,L$15:L$71) -> 236495 | M80: =SUMIF($A$15:$A$71,$A80,M$15:M$71) -> 105856 | N80: =SUMIF($A$15:$A$71,$A80,N$15:N$71) -> 0 | ... AJ80: =SUMIF($A$15:$A$71,$A80,AJ$15:AJ$71) -> 0
A81: PLB/SANI | B81: Plomberie / Sanitaire | D81: =SUM(G81:AJ81) -> 764316 | E81: =D81/$D$14 -> 0.054328249 | G81: =SUMIF($A$15:$A$71,$A81,G$15:G$71) -> 106484 | H81: =SUMIF($A$15:$A$71,$A81,H$15:H$71) -> 103219 | I81: =SUMIF($A$15:$A$71,$A81,I$15:I$71) -> 166919 | J81: =SUMIF($A$15:$A$71,$A81,J$15:J$71) -> 68770 | K81: =SUMIF($A$15:$A$71,$A81,K$15:K$71) -> 41800 | L81: =SUMIF($A$15:$A$71,$A81,L$15:L$71) -> 196443 | M81: =SUMIF($A$15:$A$71,$A81,M$15:M$71) -> 80681 | N81: =SUMIF($A$15:$A$71,$A81,N$15:N$71) -> 0 | ... AJ81: =SUMIF($A$15:$A$71,$A81,AJ$15:AJ$71) -> 0
A82: ELEC | B82: Electricité | D82: =SUM(G82:AJ82) -> 999074 | E82: =D82/$D$14 -> 0.071015053 | G82: =SUMIF($A$15:$A$71,$A82,G$15:G$71) -> 156335 | H82: =SUMIF($A$15:$A$71,$A82,H$15:H$71) -> 146975 | I82: =SUMIF($A$15:$A$71,$A82,I$15:I$71) -> 170848 | J82: =SUMIF($A$15:$A$71,$A82,J$15:J$71) -> 104479 | K82: =SUMIF($A$15:$A$71,$A82,K$15:K$71) -> 66435 | L82: =SUMIF($A$15:$A$71,$A82,L$15:L$71) -> 259735 | M82: =SUMIF($A$15:$A$71,$A82,M$15:M$71) -> 94267 | N82: =SUMIF($A$15:$A$71,$A82,N$15:N$71) -> 0 | ... AJ82: =SUMIF($A$15:$A$71,$A82,AJ$15:AJ$71) -> 0
A83: AUTRE | B83: Autres | D83: =SUM(G83:AJ83) -> 196400 | E83: =D83/$D$14 -> 0.013960284 | G83: =SUMIF($A$15:$A$71,$A83,G$15:G$71) -> 13930 | H83: =SUMIF($A$15:$A$71,$A83,H$15:H$71) -> 13017 | I83: =SUMIF($A$15:$A$71,$A83,I$15:I$71) -> 36430 | J83: =SUMIF($A$15:$A$71,$A83,J$15:J$71) -> 21400 | K83: =SUMIF($A$15:$A$71,$A83,K$15:K$71) -> 1995 | L83: =SUMIF($A$15:$A$71,$A83,L$15:L$71) -> 56650 | M83: =SUMIF($A$15:$A$71,$A83,M$15:M$71) -> 52978 | N83: =SUMIF($A$15:$A$71,$A83,N$15:N$71) -> 0 | ... AJ83: =SUMIF($A$15:$A$71,$A83,AJ$15:AJ$71) -> 0
A84: NC | B84: Non classé | D84: =SUM(G84:AJ84) -> 386316 | E84: =D84/$D$14 -> 0.027459679 | G84: =SUMIF($A$15:$A$71,$A84,G$15:G$71) -> 0 | H84: =SUMIF($A$15:$A$71,$A84,H$15:H$71) -> 93210 | I84: =SUMIF($A$15:$A$71,$A84,I$15:I$71) -> 0 | J84: =SUMIF($A$15:$A$71,$A84,J$15:J$71) -> 13752 | K84: =SUMIF($A$15:$A$71,$A84,K$15:K$71) -> 78546 | L84: =SUMIF($A$15:$A$71,$A84,L$15:L$71) -> 0 | M84: =SUMIF($A$15:$A$71,$A84,M$15:M$71) -> 200808 | N84: =SUMIF($A$15:$A$71,$A84,N$15:N$71) -> 0 | ... AJ84: =SUMIF($A$15:$A$71,$A84,AJ$15:AJ$71) -> 0

Sheet BDD shab
A1: BASE DE DONNEES | D1: Taille BDD : | E1: =COUNTIF(G12:AJ12,">0") -> 7
A3: Index OP : | G3: =1 -> 1 | H3: =G3+1 -> 2 | I3: =H3+1 -> 3 | J3: =I3+1 -> 4 | K3: =J3+1 -> 5 | L3: =K3+1 -> 6 | M3: =L3+1 -> 7 | N3: =M3+1 -> 8 | O3: =N3+1 -> 9 | ... AJ3: =AI3+1 -> 30
A4: Nom programme : | D4: MOYENNE | E4: STABILITE (Coefficient de variation) | F4: FREQUENCE | G4: =BDD!G4 -> RICHWILLER Forêt | H4: =BDD!H4 -> MATZENHEIM Strasbourg | I4: =BDD!I4 -> BLOTZHEIM Tilleul | J4: =BDD!J4 -> MUNDOLSHEIM Poste | K4: =BDD!K4 -> WOLFISHEIM Jardins | L4: =BDD!L4 -> STRASBOURG Urbanity | M4: =BDD!M4 -> RIXHEIM Mulhouse | N4: =BDD!N4 -> OP 8 | ... AJ4: =BDD!AJ4 -> OP 30
A5: Adresse : | G5: =BDD!G5 -> Rue de la Forêt | H5: =BDD!H5 -> Rue de Strasbourg | I5: =BDD!I5 -> Rue du Tilleul | J5: =BDD!J5 -> Rue de la Poste | K5: =BDD!K5 -> Rue des Jardins | L5: =BDD!L5 -> Rue Antoine Heitzmann | M5: =BDD!M5 -> Rue de Mulhouse | N5: =BDD!N5 -> 0 | ... AJ5: =BDD!AJ5 -> 0
A6: Département : | G6: =BDD!G6 -> 68 | H6: =BDD!H6 -> 67 | I6: =BDD!I6 -> 68 | J6: =BDD!J6 -> 67 | K6: =BDD!K6 -> 67 | L6: =BDD!L6 -> 67 | M6: =BDD!M6 -> 68 | N6: =BDD!N6 -> 0 | ... AJ6: =BDD!AJ6 -> 0
A7: N° OP : | G7: =BDD!G7 -> 3276-1 | H7: =BDD!H7 -> 3277-1 | I7: =BDD!I7 -> 3295-1 | J7: =BDD!J7 -> 3297 | K7: =BDD!K7 -> 3369 | L7: =BDD!L7 -> 3357 | M7: =BDD!M7 -> 3315 | N7: =BDD!N7 -> 0 | ... AJ7: =BDD!AJ7 -> 0
A8: Responsable de programme : | G8: =BDD!G8 -> V.F | H8: =BDD!H8 -> N.N | I8: =BDD!I8 -> T.M | J8: =BDD!J8 -> T.M | K8: =BDD!K8 -> V.F | L8: =BDD!L8 -> N.N | M8: =BDD!M8 -> M.N | N8: =BDD!N8 -> 0 | ... AJ8: =BDD!AJ8 -> 0
A9: Date adjudication : | G9: =BDD!G9 -> 43466 | H9: =BDD!H9 -> 43983 | I9: =BDD!I9 -> 44105 | J9: =BDD!J9 -> 44166 | K9: =BDD!K9 -> 44166 | L9: =BDD!L9 -> 44228 | M9: =BDD!M9 -> 44228 | N9: =BDD!N9 -> 0 | ... AJ9: =BDD!AJ9 -> 0
A10: Date ajout BDD : | G10: =BDD!G10 -> 44249 | H10: =BDD!H10 -> 44249 | I10: =BDD!I10 -> 44249 | J10: =BDD!J10 -> 44249 | K10: =BDD!K10 -> 44249 | L10: =BDD!L10 -> 44249 | M10: =BDD!M10 -> 44249 | N10: =BDD!N10 -> 0 | ... AJ10: =BDD!AJ10 -> 0
A11: Nombre logts : | G11: =BDD!G11 -> 21 | H11: =BDD!H11 -> 25 | I11: =BDD!I11 -> 35 | J11: =BDD!J11 -> 12 | K11: =BDD!K11 -> 8 | L11: =BDD!L11 -> 35 | M11: =BDD!M11 -> 18 | N11: =BDD!N11 -> 0 | ... AJ11: =BDD!AJ11 -> 0
A12: Shab [m²] : | G12: =BDD!G12 -> 1394.55 | H12: =BDD!H12 -> 1531 | I12: =BDD!I12 -> 2137.91 | J12: =BDD!J12 -> 848.16 | K12: =BDD!K12 -> 572.13 | L12: =BDD!L12 -> 2206.5 | M12: =BDD!M12 -> 1075.5 | N12: =BDD!N12 -> 0 | ... AJ12: =BDD!AJ12 -> 0
G13: =BDD!G13 -> 0 | H13: =BDD!H13 -> 0 | I13: =BDD!I13 -> 0 | J13: =BDD!J13 -> 0 | K13: =BDD!K13 -> 0 | L13: =BDD!L13 -> 0 | M13: =BDD!M13 -> 0 | N13: =BDD!N13 -> 0 | ... AJ13: =BDD!AJ13 -> 0
A14: Famille | B14: n° LOT | C14: LOT | D14: =AVERAGEIF(G14:AJ14,"<>0") -> 1484.6831 | E14: {=IF(COUNTIF(G14:AJ14,"<>0")>1,(_xlfn.STDEV.S(IF(G14:AJ14<>0,G14:AJ14)))/D14,0)} -> 0.10313365 | G14: =SUM(G15:G46) -> 1469.6999 | H14: =SUM(H15:H46) -> 1381.6029 | I14: =SUM(I15:I46) -> 1212.5019 | J14: =SUM(J15:J46) -> 1670.4077 | K14: =SUM(K15:K46) -> 1577.395 | L14: =SUM(L15:L46) -> 1484.0027 | M14: =SUM(M15:M46) -> 1597.1715
A15: =BDD!A15 -> AUTRE | B15: =BDD!B15 -> 1 | C15: =BDD!C15 -> Démolitions | D15: =AVERAGEIF(G15:AJ15,"<>0") -> 32.563804 | E15: {=IF(COUNTIF(G15:AJ15,"<>0")>1,(_xlfn.STDEV.S(IF(G15:AJ15<>0,G15:AJ15)))/D15,0)} -> 0.44134161 | F15: =COUNTIF(G15:AJ15,">0")/$E$1 -> 0.28571429 | G15: =IF('BDD shab'!G$12>0,BDD!G15/'BDD shab'!G$12,0) -> 0 | H15: =IF('BDD shab'!H$12>0,BDD!H15/'BDD shab'!H$12,0) -> 0 | I15: =IF('BDD shab'!I$12>0,BDD!I15/'BDD shab'!I$12,0) -> 0 | J15: =IF('BDD shab'!J$12>0,BDD!J15/'BDD shab'!J$12,0) -> 22.401434 | K15: =IF('BDD shab'!K$12>0,BDD!K15/'BDD shab'!K$12,0) -> 0 | L15: =IF('BDD shab'!L$12>0,BDD!L15/'BDD shab'!L$12,0) -> 0 | M15: =IF('BDD shab'!M$12>0,BDD!M15/'BDD shab'!M$12,0) -> 42.726174 | N15: =IF('BDD shab'!N$12>0,BDD!N15/'BDD shab'!N$12,0) -> 0 | ... AJ15: =IF('BDD shab'!AJ$12>0,BDD!AJ15/'BDD shab'!AJ$12,0) -> 0
A16: =BDD!A16 -> VRD/EV | B16: =BDD!B16 -> 2 | C16: =BDD!C16 -> Terrassements généraux | D16: =AVERAGEIF(G16:AJ16,"<>0") -> 47.588157 | E16: {=IF(COUNTIF(G16:AJ16,"<>0")>1,(_xlfn.STDEV.S(IF(G16:AJ16<>0,G16:AJ16)))/D16,0)} -> 0.22085748 | F16: =COUNTIF(G16:AJ16,">0")/$E$1 -> 0.28571429 | G16: =IF('BDD shab'!G$12>0,BDD!G16/'BDD shab'!G$12,0) -> 40.156323 | H16: =IF('BDD shab'!H$12>0,BDD!H16/'BDD shab'!H$12,0) -> 0 | I16: =IF('BDD shab'!I$12>0,BDD!I16/'BDD shab'!I$12,0) -> 0 | J16: =IF('BDD shab'!J$12>0,BDD!J16/'BDD shab'!J$12,0) -> 0 | K16: =IF('BDD shab'!K$12>0,BDD!K16/'BDD shab'!K$12,0) -> 0 | L16: =IF('BDD shab'!L$12>0,BDD!L16/'BDD shab'!L$12,0) -> 0 | M16: =IF('BDD shab'!M$12>0,BDD!M16/'BDD shab'!M$12,0) -> 55.019991 | N16: =IF('BDD shab'!N$12>0,BDD!N16/'BDD shab'!N$12,0) -> 0 | ... AJ16: =IF('BDD shab'!AJ$12>0,BDD!AJ16/'BDD shab'!AJ$12,0) -> 0
A17: =BDD!A17 -> MGO | B17: =BDD!B17 -> 3 | C17: =BDD!C17 -> Maçonnerie Gros œuvre | D17: =AVERAGEIF(G17:AJ17,"<>0") -> 452.81513 | E17: {=IF(COUNTIF(G17:AJ17,"<>0")>1,(_xlfn.STDEV.S(IF(G17:AJ17<>0,G17:AJ17)))/D17,0)} -> 0.19034812 | F17: =COUNTIF(G17:AJ17,">0")/$E$1 -> 1 | G17: =IF('BDD shab'!G$12>0,BDD!G17/'BDD shab'!G$12,0) -> 473.27095 | H17: =IF('BDD shab'!H$12>0,BDD!H17/'BDD shab'!H$12,0) -> 410.51992 | I17: =IF('BDD shab'!I$12>0,BDD!I17/'BDD shab'!I$12,0) -> 424.71386 | J17: =IF('BDD shab'!J$12>0,BDD!J17/'BDD shab'!J$12,0) -> 516.6478 | K17: =IF('BDD shab'!K$12>0,BDD!K17/'BDD shab'!K$12,0) -> 305.52147 | L17: =IF('BDD shab'!L$12>0,BDD!L17/'BDD shab'!L$12,0) -> 578.29458 | M17: =IF('BDD shab'!M$12>0,BDD!M17/'BDD shab'!M$12,0) -> 460.73733 | N17: =IF('BDD shab'!N$12>0,BDD!N17/'BDD shab'!N$12,0) -> 0 | ... AJ17: =IF('BDD shab'!AJ$12>0,BDD!AJ17/'BDD shab'!AJ$12,0) -> 0
A18: =BDD!A18 -> VRD/EV | B18: =BDD!B18 -> 4a | C18: =BDD!C18 -> Terrassement / Voirie | D18: =AVERAGEIF(G18:AJ18,"<>0") -> 65.825145 | E18: {=IF(COUNTIF(G18:AJ18,"<>0")>1,(_xlfn.STDEV.S(IF(G18:AJ18<>0,G18:AJ18)))/D18,0)} -> 0.31776333 | F18: =COUNTIF(G18:AJ18,">0")/$E$1 -> 0.71428571 | G18: =IF('BDD shab'!G$12>0,BDD!G18/'BDD shab'!G$12,0) -> 62.293213 | H18: =IF('BDD shab'!H$12>0,BDD!H18/'BDD shab'!H$12,0) -> 55.033965 | I18: =IF('BDD shab'!I$12>0,BDD!I18/'BDD shab'!I$12,0) -> 46.646959 | J18: =IF('BDD shab'!J$12>0,BDD!J18/'BDD shab'!J$12,0) -> 63.9726 | K18: =IF('BDD shab'!K$12>0,BDD!K18/'BDD shab'!K$12,0) -> 0 | L18: =IF('BDD shab'!L$12>0,BDD!L18/'BDD shab'!L$12,0) -> 0 | M18: =IF('BDD shab'!M$12>0,BDD!M18/'BDD shab'!M$12,0) -> 101.17899 | N18: =IF('BDD shab'!N$12>0,BDD!N18/'BDD shab'!N$12,0) -> 0 | ... AJ18: =IF('BDD shab'!AJ$12>0,BDD!AJ18/'BDD shab'!AJ$12,0) -> 0
A19: =BDD!A19 -> VRD/EV | B19: =BDD!B19 -> 4b | C19: =BDD!C19 -> Réseaux Extérieurs | D19: =AVERAGEIF(G19:AJ19,"<>0") -> 63.768853 | E19: {=IF(COUNTIF(G19:AJ19,"<>0")>1,(_xlfn.STDEV.S(IF(G19:AJ19<>0,G19:AJ19)))/D19,0)} -> 0.67843454 | F19: =COUNTIF(G19:AJ19,">0")/$E$1 -> 0.71428571 | G19: =IF('BDD shab'!G$12>0,BDD!G19/'BDD shab'!G$12,0) -> 0 | H19: =IF('BDD shab'!H$12>0,BDD!H19/'BDD shab'!H$12,0) -> 59.76486 | I19: =IF('BDD shab'!I$12>0,BDD!I19/'BDD shab'!I$12,0) -> 21.118756 | J19: =IF('BDD shab'!J$12>0,BDD!J19/'BDD shab'!J$12,0) -> 128.05485 | K19: =IF('BDD shab'!K$12>0,BDD!K19/'BDD shab'!K$12,0) -> 81.063744 | L19: =IF('BDD shab'!L$12>0,BDD!L19/'BDD shab'!L$12,0) -> 28.842058 | M19: =IF('BDD shab'!M$12>0,BDD!M19/'BDD shab'!M$12,0) -> 0 | N19: =IF('BDD shab'!N$12>0,BDD!N19/'BDD shab'!N$12,0) -> 0 | ... AJ19: =IF('BDD shab'!AJ$12>0,BDD!AJ19/'BDD shab'!AJ$12,0) -> 0
A20: =BDD!A20 -> CC | B20: =BDD!B20 -> 5 | C20: =BDD!C20 -> Charpente / Femettes | D20: =AVERAGEIF(G20:AJ20,"<>0") -> 34.121575 | E20: {=IF(COUNTIF(G20:AJ20,"<>0")>1,(_xlfn.STDEV.S(IF(G20:AJ20<>0,G20:AJ20)))/D20,0)} -> 0.6730842 | F20: =COUNTIF(G20:AJ20,">0")/$E$1 -> 0.57142857 | G20: =IF('BDD shab'!G$12>0,BDD!G20/'BDD shab'!G$12,0) -> 0 | H20: =IF('BDD shab'!H$12>0,BDD!H20/'BDD shab'!H$12,0) -> 50.676682 | I20: =IF('BDD shab'!I$12>0,BDD!I20/'BDD shab'!I$12,0) -> 0 | J20: =IF('BDD shab'!J$12>0,BDD!J20/'BDD shab'!J$12,0) -> 33.283814 | K20: =IF('BDD shab'!K$12>0,BDD!K20/'BDD shab'!K$12,0) -> 50.595144 | L20: =IF('BDD shab'!L$12>0,BDD!L20/'BDD shab'!L$12,0) -> 1.9306594 | M20: =IF('BDD shab'!M$12>0,BDD!M20/'BDD shab'!M$12,0) -> 0 | N20: =IF('BDD shab'!N$12>0,BDD!N20/'BDD shab'!N$12,0) -> 0 | ... AJ20: =IF('BDD shab'!AJ$12>0,BDD!AJ20/'BDD shab'!AJ$12,0) -> 0
A21: =BDD!A21 -> CC | B21: =BDD!B21 -> 6 | C21: =BDD!C21 -> Couverture / Zinguerie | D21: =AVERAGEIF(G21:AJ21,"<>0") -> 63.355505 | E21: {=IF(COUNTIF(G21:AJ21,"<>0")>1,(_xlfn.STDEV.S(IF(G21:AJ21<>0,G21:AJ21)))/D21,0)} -> 0.61810629 | F21: =COUNTIF(G21:AJ21,">0")/$E$1 -> 0.57142857 | G21: =IF('BDD shab'!G$12>0,BDD!G21/'BDD shab'!G$12,0) -> 0 | H21: =IF('BDD shab'!H$12>0,BDD!H21/'BDD shab'!H$12,0) -> 79.685173 | I21: =IF('BDD shab'!I$12>0,BDD!I21/'BDD shab'!I$12,0) -> 0 | J21: =IF('BDD shab'!J$12>0,BDD!J21/'BDD shab'!J$12,0) -> 56.003584 | K21: =IF('BDD shab'!K$12>0,BDD!K21/'BDD shab'!K$12,0) -> 104.90798 | L21: =IF('BDD shab'!L$12>0,BDD!L21/'BDD shab'!L$12,0) -> 12.825289 | M21: =IF('BDD shab'!M$12>0,BDD!M21/'BDD shab'!M$12,0) -> 0 | N21: =IF('BDD shab'!N$12>0,BDD!N21/'BDD shab'!N$12,0) -> 0 | ... AJ21: =IF('BDD shab'!AJ$12>0,BDD!AJ21/'BDD shab'!AJ$12,0) -> 0
A22: =BDD!A22 -> CC | B22: =BDD!B22 -> 7 | C22: =BDD!C22 -> Etanchéité | D22: =AVERAGEIF(G22:AJ22,"<>0") -> 62.866995 | E22: {=IF(COUNTIF(G22:AJ22,"<>0")>1,(_xlfn.STDEV.S(IF(G22:AJ22<>0,G22:AJ22)))/D22,0)} -> 0.45659039 | F22: =COUNTIF(G22:AJ22,">0")/$E$1 -> 0.71428571 | G22: =IF('BDD shab'!G$12>0,BDD!G22/'BDD shab'!G$12,0) -> 88.200495 | H22: =IF('BDD shab'!H$12>0,BDD!H22/'BDD shab'!H$12,0) -> 0 | I22: =IF('BDD shab'!I$12>0,BDD!I22/'BDD shab'!I$12,0) -> 56.010309 | J22: =IF('BDD shab'!J$12>0,BDD!J22/'BDD shab'!J$12,0) -> 0 | K22: =IF('BDD shab'!K$12>0,BDD!K22/'BDD shab'!K$12,0) -> 16.468285 | L22: =IF('BDD shab'!L$12>0,BDD!L22/'BDD shab'!L$12,0) -> 71.156583 | M22: =IF('BDD shab'!M$12>0,BDD!M22/'BDD shab'!M$12,0) -> 82.499303 | N22: =IF('BDD shab'!N$12>0,BDD!N22/'BDD shab'!N$12,0) -> 0 | ... AJ22: =IF('BDD shab'!AJ$12>0,BDD!AJ22/'BDD shab'!AJ$12,0) -> 0
A23: =BDD!A23 -> CC | B23: =BDD!B23 -> 8 | C23: =BDD!C23 -> Menuiseries extérieures PVC | D23: =AVERAGEIF(G23:AJ23,"<>0") -> 63.08592 | E23: {=IF(COUNTIF(G23:AJ23,"<>0")>1,(_xlfn.STDEV.S(IF(G23:AJ23<>0,G23:AJ23)))/D23,0)} -> 0.20752007 | F23: =COUNTIF(G23:AJ23,">0")/$E$1 -> 1 | G23: =IF('BDD shab'!G$12>0,BDD!G23/'BDD shab'!G$12,0) -> 64.188448 | H23: =IF('BDD shab'!H$12>0,BDD!H23/'BDD shab'!H$12,0) -> 71.848465 | I23: =IF('BDD shab'!I$12>0,BDD!I23/'BDD shab'!I$12,0) -> 47.710147 | J23: =IF('BDD shab'!J$12>0,BDD!J23/'BDD shab'!J$12,0) -> 58.137616 | K23: =IF('BDD shab'!K$12>0,BDD!K23/'BDD shab'!K$12,0) -> 86.955762 | L23: =IF('BDD shab'!L$12>0,BDD!L23/'BDD shab'!L$12,0) -> 52.523907 | M23: =IF('BDD shab'!M$12>0,BDD!M23/'BDD shab'!M$12,0) -> 60.237099 | N23: =IF('BDD shab'!N$12>0,BDD!N23/'BDD shab'!N$12,0) -> 0 | ... AJ23: =IF('BDD shab'!AJ$12>0,BDD!AJ23/'BDD shab'!AJ$12,0) -> 0
A24: =BDD!A24 -> PI | B24: =BDD!B24 -> 9 | C24: =BDD!C24 -> Menuiseries intérieures | D24: =AVERAGEIF(G24:AJ24,"<>0") -> 58.636822 | E24: {=IF(COUNTIF(G24:AJ24,"<>0")>1,(_xlfn.STDEV.S(IF(G24:AJ24<>0,G24:AJ24)))/D24,0)} -> 0.12308923 | F24: =COUNTIF(G24:AJ24,">0")/$E$1 -> 1 | G24: =IF('BDD shab'!G$12>0,BDD!G24/'BDD shab'!G$12,0) -> 54.92883 | H24: =IF('BDD shab'!H$12>0,BDD!H24/'BDD shab'!H$12,0) -> 53.575441 | I24: =IF('BDD shab'!I$12>0,BDD!I24/'BDD shab'!I$12,0) -> 55.661838 | J24: =IF('BDD shab'!J$12>0,BDD!J24/'BDD shab'!J$12,0) -> 73.198453 | K24: =IF('BDD shab'!K$12>0,BDD!K24/'BDD shab'!K$12,0) -> 55.183263 | L24: =IF('BDD shab'!L$12>0,BDD!L24/'BDD shab'!L$12,0) -> 63.436664 | M24: =IF('BDD shab'!M$12>0,BDD!M24/'BDD shab'!M$12,0) -> 54.473268 | N24: =IF('BDD shab'!N$12>0,BDD!N24/'BDD shab'!N$12,0) -> 0 | ... AJ24: =IF('BDD shab'!AJ$12>0,BDD!AJ24/'BDD shab'!AJ$12,0) -> 0
A25: =BDD!A25 -> ISO | B25: =BDD!B25 -> 10 | C25: =BDD!C25 -> Cloisons / Doublages / Isolation | D25: =AVERAGEIF(G25:AJ25,"<>0") -> 67.962625 | E25: {=IF(COUNTIF(G25:AJ25,"<>0")>1,(_xlfn.STDEV.S(IF(G25:AJ25<>0,G25:AJ25)))/D25,0)} -> 0.31464703 | F25: =COUNTIF(G25:AJ25,">0")/$E$1 -> 0.85714286 | G25: =IF('BDD shab'!G$12>0,BDD!G25/'BDD shab'!G$12,0) -> 64.894052 | H25: =IF('BDD shab'!H$12>0,BDD!H25/'BDD shab'!H$12,0) -> 0 | I25: =IF('BDD shab'!I$12>0,BDD!I25/'BDD shab'!I$12,0) -> 49.926798 | J25: =IF('BDD shab'!J$12>0,BDD!J25/'BDD shab'!J$12,0) -> 97.881296 | K25: =IF('BDD shab'!K$12>0,BDD!K25/'BDD shab'!K$12,0) -> 89.962072 | L25: =IF('BDD shab'!L$12>0,BDD!L25/'BDD shab'!L$12,0) -> 59.551326 | M25: =IF('BDD shab'!M$12>0,BDD!M25/'BDD shab'!M$12,0) -> 45.560205 | N25: =IF('BDD shab'!N$12>0,BDD!N25/'BDD shab'!N$12,0) -> 0 | ... AJ25: =IF('BDD shab'!AJ$12>0,BDD!AJ25/'BDD shab'!AJ$12,0) -> 0
A26: =BDD!A26 -> PI | B26: =BDD!B26 -> 11 | C26: =BDD!C26 -> Revêtements de sol collés | D26: =AVERAGEIF(G26:AJ26,"<>0") -> 28.605446 | E26: {=IF(COUNTIF(G26:AJ26,"<>0")>1,(_xlfn.STDEV.S(IF(G26:AJ26<>0,G26:AJ26)))/D26,0)} -> 0.15710343 | F26: =COUNTIF(G26:AJ26,">0")/$E$1 -> 1 | G26: =IF('BDD shab'!G$12>0,BDD!G26/'BDD shab'!G$12,0) -> 27.966011 | H26: =IF('BDD shab'!H$12>0,BDD!H26/'BDD shab'!H$12,0) -> 30.372306 | I26: =IF('BDD shab'!I$12>0,BDD!I26/'BDD shab'!I$12,0) -> 30.880626 | J26: =IF('BDD shab'!J$12>0,BDD!J26/'BDD shab'!J$12,0) -> 35.474439 | K26: =IF('BDD shab'!K$12>0,BDD!K26/'BDD shab'!K$12,0) -> 28.512751 | L26: =IF('BDD shab'!L$12>0,BDD!L26/'BDD shab'!L$12,0) -> 26.111489 | M26: =IF('BDD shab'!M$12>0,BDD!M26/'BDD shab'!M$12,0) -> 20.920502 | N26: =IF('BDD shab'!N$12>0,BDD!N26/'BDD shab'!N$12,0) -> 0 | ... AJ26: =IF('BDD shab'!AJ$12>0,BDD!AJ26/'BDD shab'!AJ$12,0) -> 0
... A71: =BDD!A71 -> 0 | B71: =BDD!B71 -> 0 | C71: =BDD!C71 -> 0 | D71: =AVERAGEIF(G71:AJ71,"<>0") -> #DIV/0! | E71: {=IF(COUNTIF(G71:AJ71,"<>0")>1,(_xlfn.STDEV.S(IF(G71:AJ71<>0,G71:AJ71)))/D71,0)} -> 0 | F71: =COUNTIF(G71:AJ71,">0")/$E$1 -> 0 | G71: =IF('BDD shab'!G$12>0,BDD!G71/'BDD shab'!G$12,0) -> 0 | H71: =IF('BDD shab'!H$12>0,BDD!H71/'BDD shab'!H$12,0) -> 0 | I71: =IF('BDD shab'!I$12>0,BDD!I71/'BDD shab'!I$12,0) -> 0 | J71: =IF('BDD shab'!J$12>0,BDD!J71/'BDD shab'!J$12,0) -> 0 | K71: =IF('BDD shab'!K$12>0,BDD!K71/'BDD shab'!K$12,0) -> 0 | L71: =IF('BDD shab'!L$12>0,BDD!L71/'BDD shab'!L$12,0) -> 0 | M71: =IF('BDD shab'!M$12>0,BDD!M71/'BDD shab'!M$12,0) -> 0 | N71: =IF('BDD shab'!N$12>0,BDD!N71/'BDD shab'!N$12,0) -> 0 | ... AJ71: =IF('BDD shab'!AJ$12>0,BDD!AJ71/'BDD shab'!AJ$12,0) -> 0
A75: =BDD!A75 -> VRD/EV | B75: =BDD!B75 -> VRD/EV/réseaux ext/terrassements généraux | D75: =AVERAGEIF(G75:AJ75,"<>0") -> 143.07532 | E75: {=IF(COUNTIF(G75:AJ75,"<>0")>1,(_xlfn.STDEV.S(IF(G75:AJ75<>0,G75:AJ75)))/D75,0)} -> 0.43704181 | G75: =SUMIF($A$15:$A$71,$A75,G$15:G$71) -> 124.24725 | H75: =SUMIF($A$15:$A$71,$A75,H$15:H$71) -> 139.39713 | I75: =SUMIF($A$15:$A$71,$A75,I$15:I$71) -> 88.376966 | J75: =SUMIF($A$15:$A$71,$A75,J$15:J$71) -> 252.62568 | K75: =SUMIF($A$15:$A$71,$A75,K$15:K$71) -> 152.0948 | L75: =SUMIF($A$15:$A$71,$A75,L$15:L$71) -> 62.552005 | M75: =SUMIF($A$15:$A$71,$A75,M$15:M$71) -> 182.23338 | N75: =SUMIF($A$15:$A$71,$A75,N$15:N$71) -> 0 | ... AJ75: =SUMIF($A$15:$A$71,$A75,AJ$15:AJ$71) -> 0
A76: =BDD!A76 -> MGO | B76: =BDD!B76 -> Maçonnerie gros œuvre | D76: =AVERAGEIF(G76:AJ76,"<>0") -> 452.81513 | E76: {=IF(COUNTIF(G76:AJ76,"<>0")>1,(_xlfn.STDEV.S(IF(G76:AJ76<>0,G76:AJ76)))/D76,0)} -> 0.19034812 | G76: =SUMIF($A$15:$A$71,$A76,G$15:G$71) -> 473.27095 | H76: =SUMIF($A$15:$A$71,$A76,H$15:H$71) -> 410.51992 | I76: =SUMIF($A$15:$A$71,$A76,I$15:I$71) -> 424.71386 | J76: =SUMIF($A$15:$A$71,$A76,J$15:J$71) -> 516.6478 | K76: =SUMIF($A$15:$A$71,$A76,K$15:K$71) -> 305.52147 | L76: =SUMIF($A$15:$A$71,$A76,L$15:L$71) -> 578.29458 | M76: =SUMIF($A$15:$A$71,$A76,M$15:M$71) -> 460.73733 | N76: =SUMIF($A$15:$A$71,$A76,N$15:N$71) -> 0 | ... AJ76: =SUMIF($A$15:$A$71,$A76,AJ$15:AJ$71) -> 0
A77: =BDD!A77 -> CC | B77: =BDD!B77 -> Clos couvert / Enveloppe | D77: =AVERAGEIF(G77:AJ77,"<>0") -> 230.01856 | E77: {=IF(COUNTIF(G77:AJ77,"<>0")>1,(_xlfn.STDEV.S(IF(G77:AJ77<>0,G77:AJ77)))/D77,0)} -> 0.27321299 | G77: =SUMIF($A$15:$A$71,$A77,G$15:G$71) -> 197.35399 | H77: =SUMIF($A$15:$A$71,$A77,H$15:H$71) -> 260.34095 | I77: =SUMIF($A$15:$A$71,$A77,I$15:I$71) -> 174.58499 | J77: =SUMIF($A$15:$A$71,$A77,J$15:J$71) -> 181.98099 | K77: =SUMIF($A$15:$A$71,$A77,K$15:K$71) -> 356.85771 | L77: =SUMIF($A$15:$A$71,$A77,L$15:L$71) -> 222.67845 | M77: =SUMIF($A$15:$A$71,$A77,M$15:M$71) -> 216.33287 | N77: =SUMIF($A$15:$A$71,$A77,N$15:N$71) -> 0 | ... AJ77: =SUMIF($A$15:$A$71,$A77,AJ$15:AJ$71) -> 0
A78: =BDD!A78 -> PI | B78: =BDD!B78 -> Parties intérieures | D78: =AVERAGEIF(G78:AJ78,"<>0") -> 178.07614 | E78: {=IF(COUNTIF(G78:AJ78,"<>0")>1,(_xlfn.STDEV.S(IF(G78:AJ78<>0,G78:AJ78)))/D78,0)} -> 0.047789031 | G78: =SUMIF($A$15:$A$71,$A78,G$15:G$71) -> 185.15005 | H78: =SUMIF($A$15:$A$71,$A78,H$15:H$71) -> 188.38929 | I78: =SUMIF($A$15:$A$71,$A78,I$15:I$71) -> 180.103 | J78: =SUMIF($A$15:$A$71,$A78,J$15:J$71) -> 183.54202 | K78: =SUMIF($A$15:$A$71,$A78,K$15:K$71) -> 174.42015 | L78: =SUMIF($A$15:$A$71,$A78,L$15:L$71) -> 165.79787 | M78: =SUMIF($A$15:$A$71,$A78,M$15:M$71) -> 169.13064 | N78: =SUMIF($A$15:$A$71,$A78,N$15:N$71) -> 0 | ... AJ78: =SUMIF($A$15:$A$71,$A78,AJ$15:AJ$71) -> 0
A79: =BDD!A79 -> ISO | B79: =BDD!B79 -> Isolation | D79: =AVERAGEIF(G79:AJ79,"<>0") -> 113.54903 | E79: {=IF(COUNTIF(G79:AJ79,"<>0")>1,(_xlfn.STDEV.S(IF(G79:AJ79<>0,G79:AJ79)))/D79,0)} -> 0.40483093 | G79: =SUMIF($A$15:$A$71,$A79,G$15:G$71) -> 189.59162 | H79: =SUMIF($A$15:$A$71,$A79,H$15:H$71) -> 63.986283 | I79: =SUMIF($A$15:$A$71,$A79,I$15:I$71) -> 77.99159 | J79: =SUMIF($A$15:$A$71,$A79,J$15:J$71) -> 128.30008 | K79: =SUMIF($A$15:$A$71,$A79,K$15:K$71) -> 148.21631 | L79: =SUMIF($A$15:$A$71,$A79,L$15:L$71) -> 115.0818 | M79: =SUMIF($A$15:$A$71,$A79,M$15:M$71) -> 71.6755 | N79: =SUMIF($A$15:$A$71,$A79,N$15:N$71) -> 0 | ... AJ79: =SUMIF($A$15:$A$71,$A79,AJ$15:AJ$71) -> 0
A80: =BDD!A80 -> CHAUF | B80: =BDD!B80 -> Chauffage / VMC | D80: =AVERAGEIF(G80:AJ80,"<>0") -> 108.14907 | E80: {=IF(COUNTIF(G80:AJ80,"<>0")>1,(_xlfn.STDEV.S(IF(G80:AJ80<>0,G80:AJ80)))/D80,0)} -> 0.23127292 | G80: =SUMIF($A$15:$A$71,$A80,G$15:G$71) -> 101.63565 | H80: =SUMIF($A$15:$A$71,$A80,H$15:H$71) -> 86.166558 | I80: =SUMIF($A$15:$A$71,$A80,I$15:I$71) -> 91.702176 | J80: =SUMIF($A$15:$A$71,$A80,J$15:J$71) -> 161.60158 | K80: =SUMIF($A$15:$A$71,$A80,K$15:K$71) -> 110.33157 | L80: =SUMIF($A$15:$A$71,$A80,L$15:L$71) -> 107.18106 | M80: =SUMIF($A$15:$A$71,$A80,M$15:M$71) -> 98.424919 | N80: =SUMIF($A$15:$A$71,$A80,N$15:N$71) -> 0 | ... AJ80: =SUMIF($A$15:$A$71,$A80,AJ$15:AJ$71) -> 0
A81: =BDD!A81 -> PLB/SANI | B81: =BDD!B81 -> Plomberie / Sanitaire | D81: =AVERAGEIF(G81:AJ81,"<>0") -> 77.148645 | E81: {=IF(COUNTIF(G81:AJ81,"<>0")>1,(_xlfn.STDEV.S(IF(G81:AJ81<>0,G81:AJ81)))/D81,0)} -> 0.087596233 | G81: =SUMIF($A$15:$A$71,$A81,G$15:G$71) -> 76.357248 | H81: =SUMIF($A$15:$A$71,$A81,H$15:H$71) -> 67.419334 | I81: =SUMIF($A$15:$A$71,$A81,I$15:I$71) -> 78.075784 | J81: =SUMIF($A$15:$A$71,$A81,J$15:J$71) -> 81.0814 | K81: =SUMIF($A$15:$A$71,$A81,K$15:K$71) -> 73.060318 | L81: =SUMIF($A$15:$A$71,$A81,L$15:L$71) -> 89.029232 | M81: =SUMIF($A$15:$A$71,$A81,M$15:M$71) -> 75.017201 | N81: =SUMIF($A$15:$A$71,$A81,N$15:N$71) -> 0 | ... AJ81: =SUMIF($A$15:$A$71,$A81,AJ$15:AJ$71) -> 0
A82: =BDD!A82 -> ELEC | B82: =BDD!B82 -> Electricité | D82: =AVERAGEIF(G82:AJ82,"<>0") -> 104.66886 | E82: {=IF(COUNTIF(G82:AJ82,"<>0")>1,(_xlfn.STDEV.S(IF(G82:AJ82<>0,G82:AJ82)))/D82,0)} -> 0.15972385 | G82: =SUMIF($A$15:$A$71,$A82,G$15:G$71) -> 112.10426 | H82: =SUMIF($A$15:$A$71,$A82,H$15:H$71) -> 95.999347 | I82: =SUMIF($A$15:$A$71,$A82,I$15:I$71) -> 79.91356 | J82: =SUMIF($A$15:$A$71,$A82,J$15:J$71) -> 123.18313 | K82: =SUMIF($A$15:$A$71,$A82,K$15:K$71) -> 116.11871 | L82: =SUMIF($A$15:$A$71,$A82,L$15:L$71) -> 117.71357 | M82: =SUMIF($A$15:$A$71,$A82,M$15:M$71) -> 87.649465 | N82: =SUMIF($A$15:$A$71,$A82,N$15:N$71) -> 0 | ... AJ82: =SUMIF($A$15:$A$71,$A82,AJ$15:AJ$71) -> 0
A83: =BDD!A83 -> AUTRE | B83: =BDD!B83 -> Autres | D83: =AVERAGEIF(G83:AJ83,"<>0") -> 19.88319 | E83: {=IF(COUNTIF(G83:AJ83,"<>0")>1,(_xlfn.STDEV.S(IF(G83:AJ83<>0,G83:AJ83)))/D83,0)} -> 0.77627765 | G83: =SUMIF($A$15:$A$71,$A83,G$15:G$71) -> 9.9888853 | H83: =SUMIF($A$15:$A$71,$A83,H$15:H$71) -> 8.5022861 | I83: =SUMIF($A$15:$A$71,$A83,I$15:I$71) -> 17.040006 | J83: =SUMIF($A$15:$A$71,$A83,J$15:J$71) -> 25.231088 | K83: =SUMIF($A$15:$A$71,$A83,K$15:K$71) -> 3.4869697 | L83: =SUMIF($A$15:$A$71,$A83,L$15:L$71) -> 25.674145 | M83: =SUMIF($A$15:$A$71,$A83,M$15:M$71) -> 49.258949 | N83: =SUMIF($A$15:$A$71,$A83,N$15:N$71) -> 0 | ... AJ83: =SUMIF($A$15:$A$71,$A83,AJ$15:AJ$71) -> 0
A84: =BDD!A84 -> NC | B84: =BDD!B84 -> Non classé | D84: =AVERAGEIF(G84:AJ84,"<>0") -> 100.27349 | E84: {=IF(COUNTIF(G84:AJ84,"<>0")>1,(_xlfn.STDEV.S(IF(G84:AJ84<>0,G84:AJ84)))/D84,0)} -> 0.76079129 | G84: =SUMIF($A$15:$A$71,$A84,G$15:G$71) -> 0 | H84: =SUMIF($A$15:$A$71,$A84,H$15:H$71) -> 60.881777 | I84: =SUMIF($A$15:$A$71,$A84,I$15:I$71) -> 0 | J84: =SUMIF($A$15:$A$71,$A84,J$15:J$71) -> 16.213922 | K84: =SUMIF($A$15:$A$71,$A84,K$15:K$71) -> 137.28698 | L84: =SUMIF($A$15:$A$71,$A84,L$15:L$71) -> 0 | M84: =SUMIF($A$15:$A$71,$A84,M$15:M$71) -> 186.7113 | N84: =SUMIF($A$15:$A$71,$A84,N$15:N$71) -> 0 | ... AJ84: =SUMIF($A$15:$A$71,$A84,AJ$15:AJ$71) -> 0

Sheet BDD logt
A1: BASE DE DONNEES | D1: Taille BDD : | E1: =COUNTIF(G12:AJ12,">0") -> 7
A3: Index OP : | G3: =1 -> 1 | H3: =G3+1 -> 2 | I3: =H3+1 -> 3 | J3: =I3+1 -> 4 | K3: =J3+1 -> 5 | L3: =K3+1 -> 6 | M3: =L3+1 -> 7 | N3: =M3+1 -> 8 | O3: =N3+1 -> 9 | ... AJ3: =AI3+1 -> 30
A4: Nom programme : | D4: MOYENNE | E4: STABILITE (Coefficient de variation) | F4: FREQUENCE | G4: =BDD!G4 -> RICHWILLER Forêt | H4: =BDD!H4 -> MATZENHEIM Strasbourg | I4: =BDD!I4 -> BLOTZHEIM Tilleul | J4: =BDD!J4 -> MUNDOLSHEIM Poste | K4: =BDD!K4 -> WOLFISHEIM Jardins | L4: =BDD!L4 -> STRASBOURG Urbanity | M4: =BDD!M4 -> RIXHEIM Mulhouse | N4: =BDD!N4 -> OP 8 | ... AJ4: =BDD!AJ4 -> OP 30
A5: Adresse : | G5: =BDD!G5 -> Rue de la Forêt | H5: =BDD!H5 -> Rue de Strasbourg | I5: =BDD!I5 -> Rue du Tilleul | J5: =BDD!J5 -> Rue de la Poste | K5: =BDD!K5 -> Rue des Jardins | L5: =BDD!L5 -> Rue Antoine Heitzmann | M5: =BDD!M5 -> Rue de Mulhouse | N5: =BDD!N5 -> 0 | ... AJ5: =BDD!AJ5 -> 0
A6: Département : | G6: =BDD!G6 -> 68 | H6: =BDD!H6 -> 67 | I6: =BDD!I6 -> 68 | J6: =BDD!J6 -> 67 | K6: =BDD!K6 -> 67 | L6: =BDD!L6 -> 67 | M6: =BDD!M6 -> 68 | N6: =BDD!N6 -> 0 | ... AJ6: =BDD!AJ6 -> 0
A7: N° OP : | G7: =BDD!G7 -> 3276-1 | H7: =BDD!H7 -> 3277-1 | I7: =BDD!I7 -> 3295-1 | J7: =BDD!J7 -> 3297 | K7: =BDD!K7 -> 3369 | L7: =BDD!L7 -> 3357 | M7: =BDD!M7 -> 3315 | N7: =BDD!N7 -> 0 | ... AJ7: =BDD!AJ7 -> 0
A8: Responsable de programme : | G8: =BDD!G8 -> V.F | H8: =BDD!H8 -> N.N | I8: =BDD!I8 -> T.M | J8: =BDD!J8 -> T.M | K8: =BDD!K8 -> V.F | L8: =BDD!L8 -> N.N | M8: =BDD!M8 -> M.N | N8: =BDD!N8 -> 0 | ... AJ8: =BDD!AJ8 -> 0
A9: Date adjudication : | G9: =BDD!G9 -> 43466 | H9: =BDD!H9 -> 43983 | I9: =BDD!I9 -> 44105 | J9: =BDD!J9 -> 44166 | K9: =BDD!K9 -> 44166 | L9: =BDD!L9 -> 44228 | M9: =BDD!M9 -> 44228 | N9: =BDD!N9 -> 0 | ... AJ9: =BDD!AJ9 -> 0
A10: Date ajout BDD : | G10: =BDD!G10 -> 44249 | H10: =BDD!H10 -> 44249 | I10: =BDD!I10 -> 44249 | J10: =BDD!J10 -> 44249 | K10: =BDD!K10 -> 44249 | L10: =BDD!L10 -> 44249 | M10: =BDD!M10 -> 44249 | N10: =BDD!N10 -> 0 | ... AJ10: =BDD!AJ10 -> 0
A11: Nombre logts : | G11: =BDD!G11 -> 21 | H11: =BDD!H11 -> 25 | I11: =BDD!I11 -> 35 | J11: =BDD!J11 -> 12 | K11: =BDD!K11 -> 8 | L11: =BDD!L11 -> 35 | M11: =BDD!M11 -> 18 | N11: =BDD!N11 -> 0 | ... AJ11: =BDD!AJ11 -> 0
A12: Shab [m²] : | G12: =BDD!G12 -> 1394.55 | H12: =BDD!H12 -> 1531 | I12: =BDD!I12 -> 2137.91 | J12: =BDD!J12 -> 848.16 | K12: =BDD!K12 -> 572.13 | L12: =BDD!L12 -> 2206.5 | M12: =BDD!M12 -> 1075.5 | N12: =BDD!N12 -> 0 | ... AJ12: =BDD!AJ12 -> 0
G13: =BDD!G13 -> 0 | H13: =BDD!H13 -> 0 | I13: =BDD!I13 -> 0 | J13: =BDD!J13 -> 0 | K13: =BDD!K13 -> 0 | L13: =BDD!L13 -> 0 | M13: =BDD!M13 -> 0 | N13: =BDD!N13 -> 0 | ... AJ13: =BDD!AJ13 -> 0
A14: Famille | B14: n° LOT | C14: LOT | D14: =AVERAGEIF(G14:AJ14,"<>0") -> 96590.275 | E14: {=IF(COUNTIF(G14:AJ14,"<>0")>1,(_xlfn.STDEV.S(IF(G14:AJ14<>0,G14:AJ14)))/D14,0)} -> 0.1573957 | G14: =SUM(G15:G46) -> 97598.571 | H14: =SUM(H15:H46) -> 84609.36 | I14: =SUM(I15:I46) -> 74063.429 | J14: =SUM(J15:J46) -> 118064.42 | K14: =SUM(K15:K46) -> 112809.38 | L14: =SUM(L15:L46) -> 93555.771 | M14: =SUM(M15:M46) -> 95431
A15: =BDD!A15 -> AUTRE | B15: =BDD!B15 -> 1 | C15: =BDD!C15 -> Démolitions | D15: =AVERAGEIF(G15:AJ15,"<>0") -> 2068.1111 | E15: {=IF(COUNTIF(G15:AJ15,"<>0")>1,(_xlfn.STDEV.S(IF(G15:AJ15<>0,G15:AJ15)))/D15,0)} -> 0.33150023 | F15: =COUNTIF(G15:AJ15,">0")/$E$1 -> 0.28571429 | G15: =IF('BDD logt'!G$11>0,BDD!G15/'BDD logt'!G$11,0) -> 0 | H15: =IF('BDD logt'!H$11>0,BDD!H15/'BDD logt'!H$11,0) -> 0 | I15: =IF('BDD logt'!I$11>0,BDD!I15/'BDD logt'!I$11,0) -> 0 | J15: =IF('BDD logt'!J$11>0,BDD!J15/'BDD logt'!J$11,0) -> 1583.3333 | K15: =IF('BDD logt'!K$11>0,BDD!K15/'BDD logt'!K$11,0) -> 0 | L15: =IF('BDD logt'!L$11>0,BDD!L15/'BDD logt'!L$11,0) -> 0 | M15: =IF('BDD logt'!M$11>0,BDD!M15/'BDD logt'!M$11,0) -> 2552.8889 | N15: =IF('BDD logt'!N$11>0,BDD!N15/'BDD logt'!N$11,0) -> 0 | ... AJ15: =IF('BDD logt'!AJ$11>0,BDD!AJ15/'BDD logt'!AJ$11,0) -> 0
A16: =BDD!A16 -> VRD/EV | B16: =BDD!B16 -> 2 | C16: =BDD!C16 -> Terrassements généraux | D16: =AVERAGEIF(G16:AJ16,"<>0") -> 2977.0556 | E16: {=IF(COUNTIF(G16:AJ16,"<>0")>1,(_xlfn.STDEV.S(IF(G16:AJ16<>0,G16:AJ16)))/D16,0)} -> 0.14744642 | F16: =COUNTIF(G16:AJ16,">0")/$E$1 -> 0.28571429 | G16: =IF('BDD logt'!G$11>0,BDD!G16/'BDD logt'!G$11,0) -> 2666.6667 | H16: =IF('BDD logt'!H$11>0,BDD!H16/'BDD logt'!H$11,0) -> 0 | I16: =IF('BDD logt'!I$11>0,BDD!I16/'BDD logt'!I$11,0) -> 0 | J16: =IF('BDD logt'!J$11>0,BDD!J16/'BDD logt'!J$11,0) -> 0 | K16: =IF('BDD logt'!K$11>0,BDD!K16/'BDD logt'!K$11,0) -> 0 | L16: =IF('BDD logt'!L$11>0,BDD!L16/'BDD logt'!L$11,0) -> 0 | M16: =IF('BDD logt'!M$11>0,BDD!M16/'BDD logt'!M$11,0) -> 3287.4444 | N16: =IF('BDD logt'!N$11>0,BDD!N16/'BDD logt'!N$11,0) -> 0 | ... AJ16: =IF('BDD logt'!AJ$11>0,BDD!AJ16/'BDD logt'!AJ$11,0) -> 0
A17: =BDD!A17 -> MGO | B17: =BDD!B17 -> 3 | C17: =BDD!C17 -> Maçonnerie Gros œuvre | D17: =AVERAGEIF(G17:AJ17,"<>0") -> 29266.355 | E17: {=IF(COUNTIF(G17:AJ17,"<>0")>1,(_xlfn.STDEV.S(IF(G17:AJ17<>0,G17:AJ17)))/D17,0)} -> 0.19481644 | F17: =COUNTIF(G17:AJ17,">0")/$E$1 -> 1 | G17: =IF('BDD logt'!G$11>0,BDD!G17/'BDD logt'!G$11,0) -> 31428.571 | H17: =IF('BDD logt'!H$11>0,BDD!H17/'BDD logt'!H$11,0) -> 25140.24 | I17: =IF('BDD logt'!I$11>0,BDD!I17/'BDD logt'!I$11,0) -> 25942.857 | J17: =IF('BDD logt'!J$11>0,BDD!J17/'BDD logt'!J$11,0) -> 36516.667 | K17: =IF('BDD logt'!K$11>0,BDD!K17/'BDD logt'!K$11,0) -> 21849.75 | L17: =IF('BDD logt'!L$11>0,BDD!L17/'BDD logt'!L$11,0) -> 36457.343 | M17: =IF('BDD logt'!M$11>0,BDD!M17/'BDD logt'!M$11,0) -> 27529.056 | N17: =IF('BDD logt'!N$11>0,BDD!N17/'BDD logt'!N$11,0) -> 0 | ... AJ17: =IF('BDD logt'!AJ$11>0,BDD!AJ17/'BDD logt'!AJ$11,0) -> 0
A18: =BDD!A18 -> VRD/EV | B18: =BDD!B18 -> 4a | C18: =BDD!C18 -> Terrassement / Voirie | D18: =AVERAGEIF(G18:AJ18,"<>0") -> 4184.673 | E18: {=IF(COUNTIF(G18:AJ18,"<>0")>1,(_xlfn.STDEV.S(IF(G18:AJ18<>0,G18:AJ18)))/D18,0)} -> 0.29327387 | F18: =COUNTIF(G18:AJ18,">0")/$E$1 -> 0.71428571 | G18: =IF('BDD logt'!G$11>0,BDD!G18/'BDD logt'!G$11,0) -> 4136.7143 | H18: =IF('BDD logt'!H$11>0,BDD!H18/'BDD logt'!H$11,0) -> 3370.28 | I18: =IF('BDD logt'!I$11>0,BDD!I18/'BDD logt'!I$11,0) -> 2849.3429 | J18: =IF('BDD logt'!J$11>0,BDD!J18/'BDD logt'!J$11,0) -> 4521.5833 | K18: =IF('BDD logt'!K$11>0,BDD!K18/'BDD logt'!K$11,0) -> 0 | L18: =IF('BDD logt'!L$11>0,BDD!L18/'BDD logt'!L$11,0) -> 0 | M18: =IF('BDD logt'!M$11>0,BDD!M18/'BDD logt'!M$11,0) -> 6045.4444 | N18: =IF('BDD logt'!N$11>0,BDD!N18/'BDD logt'!N$11,0) -> 0 | ... AJ18: =IF('BDD logt'!AJ$11>0,BDD!AJ18/'BDD logt'!AJ$11,0) -> 0
A19: =BDD!A19 -> VRD/EV | B19: =BDD!B19 -> 4b | C19: =BDD!C19 -> Réseaux Extérieurs | D19: =AVERAGEIF(G19:AJ19,"<>0") -> 4323.3155 | E19: {=IF(COUNTIF(G19:AJ19,"<>0")>1,(_xlfn.STDEV.S(IF(G19:AJ19<>0,G19:AJ19)))/D19,0)} -> 0.7354523 | F19: =COUNTIF(G19:AJ19,">0")/$E$1 -> 0.71428571 | G19: =IF('BDD logt'!G$11>0,BDD!G19/'BDD logt'!G$11,0) -> 0 | H19: =IF('BDD logt'!H$11>0,BDD!H19/'BDD logt'!H$11,0) -> 3660 | I19: =IF('BDD logt'!I$11>0,BDD!I19/'BDD logt'!I$11,0) -> 1290 | J19: =IF('BDD logt'!J$11>0,BDD!J19/'BDD logt'!J$11,0) -> 9050.9167 | K19: =IF('BDD logt'!K$11>0,BDD!K19/'BDD logt'!K$11,0) -> 5797.375 | L19: =IF('BDD logt'!L$11>0,BDD!L19/'BDD logt'!L$11,0) -> 1818.2857 | M19: =IF('BDD logt'!M$11>0,BDD!M19/'BDD logt'!M$11,0) -> 0 | N19: =IF('BDD logt'!N$11>0,BDD!N19/'BDD logt'!N$11,0) -> 0 | ... AJ19: =IF('BDD logt'!AJ$11>0,BDD!AJ19/'BDD logt'!AJ$11,0) -> 0
A20: =BDD!A20 -> CC | B20: =BDD!B20 -> 5 | C20: =BDD!C20 -> Charpente / Femettes | D20: =AVERAGEIF(G20:AJ20,"<>0") -> 2299.0073 | E20: {=IF(COUNTIF(G20:AJ20,"<>0")>1,(_xlfn.STDEV.S(IF(G20:AJ20<>0,G20:AJ20)))/D20,0)} -> 0.67063105 | F20: =COUNTIF(G20:AJ20,">0")/$E$1 -> 0.57142857 | G20: =IF('BDD logt'!G$11>0,BDD!G20/'BDD logt'!G$11,0) -> 0 | H20: =IF('BDD logt'!H$11>0,BDD!H20/'BDD logt'!H$11,0) -> 3103.44 | I20: =IF('BDD logt'!I$11>0,BDD!I20/'BDD logt'!I$11,0) -> 0 | J20: =IF('BDD logt'!J$11>0,BDD!J20/'BDD logt'!J$11,0) -> 2352.5 | K20: =IF('BDD logt'!K$11>0,BDD!K20/'BDD logt'!K$11,0) -> 3618.375 | L20: =IF('BDD logt'!L$11>0,BDD!L20/'BDD logt'!L$11,0) -> 121.71429 | M20: =IF('BDD logt'!M$11>0,BDD!M20/'BDD logt'!M$11,0) -> 0 | N20: =IF('BDD logt'!N$11>0,BDD!N20/'BDD logt'!N$11,0) -> 0 | ... AJ20: =IF('BDD logt'!AJ$11>0,BDD!AJ20/'BDD logt'!AJ$11,0) -> 0
A21: =BDD!A21 -> CC | B21: =BDD!B21 -> 6 | C21: =BDD!C21 -> Couverture / Zinguerie | D21: =AVERAGEIF(G21:AJ21,"<>0") -> 4287.3553 | E21: {=IF(COUNTIF(G21:AJ21,"<>0")>1,(_xlfn.STDEV.S(IF(G21:AJ21<>0,G21:AJ21)))/D21,0)} -> 0.6444107 | F21: =COUNTIF(G21:AJ21,">0")/$E$1 -> 0.57142857 | G21: =IF('BDD logt'!G$11>0,BDD!G21/'BDD logt'!G$11,0) -> 0 | H21: =IF('BDD logt'!H$11>0,BDD!H21/'BDD logt'!H$11,0) -> 4879.92 | I21: =IF('BDD logt'!I$11>0,BDD!I21/'BDD logt'!I$11,0) -> 0 | J21: =IF('BDD logt'!J$11>0,BDD!J21/'BDD logt'!J$11,0) -> 3958.3333 | K21: =IF('BDD logt'!K$11>0,BDD!K21/'BDD logt'!K$11,0) -> 7502.625 | L21: =IF('BDD logt'!L$11>0,BDD!L21/'BDD logt'!L$11,0) -> 808.54286 | M21: =IF('BDD logt'!M$11>0,BDD!M21/'BDD logt'!M$11,0) -> 0 | N21: =IF('BDD logt'!N$11>0,BDD!N21/'BDD logt'!N$11,0) -> 0 | ... AJ21: =IF('BDD logt'!AJ$11>0,BDD!AJ21/'BDD logt'!AJ$11,0) -> 0
A22: =BDD!A22 -> CC | B22: =BDD!B22 -> 7 | C22: =BDD!C22 -> Etanchéité | D22: =AVERAGEIF(G22:AJ22,"<>0") -> 3974.2852 | E22: {=IF(COUNTIF(G22:AJ22,"<>0")>1,(_xlfn.STDEV.S(IF(G22:AJ22<>0,G22:AJ22)))/D22,0)} -> 0.45090563 | F22: =COUNTIF(G22:AJ22,">0")/$E$1 -> 0.71428571 | G22: =IF('BDD logt'!G$11>0,BDD!G22/'BDD logt'!G$11,0) -> 5857.1429 | H22: =IF('BDD logt'!H$11>0,BDD!H22/'BDD logt'!H$11,0) -> 0 | I22: =IF('BDD logt'!I$11>0,BDD!I22/'BDD logt'!I$11,0) -> 3421.2857 | J22: =IF('BDD logt'!J$11>0,BDD!J22/'BDD logt'!J$11,0) -> 0 | K22: =IF('BDD logt'!K$11>0,BDD!K22/'BDD logt'!K$11,0) -> 1177.75 | L22: =IF('BDD logt'!L$11>0,BDD!L22/'BDD logt'!L$11,0) -> 4485.9143 | M22: =IF('BDD logt'!M$11>0,BDD!M22/'BDD logt'!M$11,0) -> 4929.3333 | N22: =IF('BDD logt'!N$11>0,BDD!N22/'BDD logt'!N$11,0) -> 0 | ... AJ22: =IF('BDD logt'!AJ$11>0,BDD!AJ22/'BDD logt'!AJ$11,0) -> 0
A23: =BDD!A23 -> CC | B23: =BDD!B23 -> 8 | C23: =BDD!C23 -> Menuiseries extérieures PVC | D23: =AVERAGEIF(G23:AJ23,"<>0") -> 4116.4568 | E23: {=IF(COUNTIF(G23:AJ23,"<>0")>1,(_xlfn.STDEV.S(IF(G23:AJ23<>0,G23:AJ23)))/D23,0)} -> 0.26018165 | F23: =COUNTIF(G23:AJ23,">0")/$E$1 -> 1 | G23: =IF('BDD logt'!G$11>0,BDD!G23/'BDD logt'!G$11,0) -> 4262.5714 | H23: =IF('BDD logt'!H$11>0,BDD!H23/'BDD logt'!H$11,0) -> 4400 | I23: =IF('BDD logt'!I$11>0,BDD!I23/'BDD logt'!I$11,0) -> 2914.2857 | J23: =IF('BDD logt'!J$11>0,BDD!J23/'BDD logt'!J$11,0) -> 4109.1667 | K23: =IF('BDD logt'!K$11>0,BDD!K23/'BDD logt'!K$11,0) -> 6218.75 | L23: =IF('BDD logt'!L$11>0,BDD!L23/'BDD logt'!L$11,0) -> 3311.2571 | M23: =IF('BDD logt'!M$11>0,BDD!M23/'BDD logt'!M$11,0) -> 3599.1667 | N23: =IF('BDD logt'!N$11>0,BDD!N23/'BDD logt'!N$11,0) -> 0 | ... AJ23: =IF('BDD logt'!AJ$11>0,BDD!AJ23/'BDD logt'!AJ$11,0) -> 0
A24: =BDD!A24 -> PI | B24: =BDD!B24 -> 9 | C24: =BDD!C24 -> Menuiseries intérieures | D24: =AVERAGEIF(G24:AJ24,"<>0") -> 3814.6857 | E24: {=IF(COUNTIF(G24:AJ24,"<>0")>1,(_xlfn.STDEV.S(IF(G24:AJ24<>0,G24:AJ24)))/D24,0)} -> 0.17573741 | F24: =COUNTIF(G24:AJ24,">0")/$E$1 -> 1 | G24: =IF('BDD logt'!G$11>0,BDD!G24/'BDD logt'!G$11,0) -> 3647.6667 | H24: =IF('BDD logt'!H$11>0,BDD!H24/'BDD logt'!H$11,0) -> 3280.96 | I24: =IF('BDD logt'!I$11>0,BDD!I24/'BDD logt'!I$11,0) -> 3400 | J24: =IF('BDD logt'!J$11>0,BDD!J24/'BDD logt'!J$11,0) -> 5173.6667 | K24: =IF('BDD logt'!K$11>0,BDD!K24/'BDD logt'!K$11,0) -> 3946.5 | L24: =IF('BDD logt'!L$11>0,BDD!L24/'BDD logt'!L$11,0) -> 3999.2286 | M24: =IF('BDD logt'!M$11>0,BDD!M24/'BDD logt'!M$11,0) -> 3254.7778 | N24: =IF('BDD logt'!N$11>0,BDD!N24/'BDD logt'!N$11,0) -> 0 | ... AJ24: =IF('BDD logt'!AJ$11>0,BDD!AJ24/'BDD logt'!AJ$11,0) -> 0
A25: =BDD!A25 -> ISO | B25: =BDD!B25 -> 10 | C25: =BDD!C25 -> Cloisons / Doublages / Isolation | D25: =AVERAGEIF(G25:AJ25,"<>0") -> 4531.2704 | E25: {=IF(COUNTIF(G25:AJ25,"<>0")>1,(_xlfn.STDEV.S(IF(G25:AJ25<>0,G25:AJ25)))/D25,0)} -> 0.38778167 | F25: =COUNTIF(G25:AJ25,">0")/$E$1 -> 0.85714286 | G25: =IF('BDD logt'!G$11>0,BDD!G25/'BDD logt'!G$11,0) -> 4309.4286 | H25: =IF('BDD logt'!H$11>0,BDD!H25/'BDD logt'!H$11,0) -> 0 | I25: =IF('BDD logt'!I$11>0,BDD!I25/'BDD logt'!I$11,0) -> 3049.6857 | J25: =IF('BDD logt'!J$11>0,BDD!J25/'BDD logt'!J$11,0) -> 6918.25 | K25: =IF('BDD logt'!K$11>0,BDD!K25/'BDD logt'!K$11,0) -> 6433.75 | L25: =IF('BDD logt'!L$11>0,BDD!L25/'BDD logt'!L$11,0) -> 3754.2857 | M25: =IF('BDD logt'!M$11>0,BDD!M25/'BDD logt'!M$11,0) -> 2722.2222 | N25: =IF('BDD logt'!N$11>0,BDD!N25/'BDD logt'!N$11,0) -> 0 | ... AJ25: =IF('BDD logt'!AJ$11>0,BDD!AJ25/'BDD logt'!AJ$11,0) -> 0
A26: =BDD!A26 -> PI | B26: =BDD!B26 -> 11 | C26: =BDD!C26 -> Revêtements de sol collés | D26: =AVERAGEIF(G26:AJ26,"<>0") -> 1863.7185 | E26: {=IF(COUNTIF(G26:AJ26,"<>0")>1,(_xlfn.STDEV.S(IF(G26:AJ26<>0,G26:AJ26)))/D26,0)} -> 0.20426534 | F26: =COUNTIF(G26:AJ26,">0")/$E$1 -> 1 | G26: =IF('BDD logt'!G$11>0,BDD!G26/'BDD logt'!G$11,0) -> 1857.1429 | H26: =IF('BDD logt'!H$11>0,BDD!H26/'BDD logt'!H$11,0) -> 1860 | I26: =IF('BDD logt'!I$11>0,BDD!I26/'BDD logt'!I$11,0) -> 1886.2857 | J26: =IF('BDD logt'!J$11>0,BDD!J26/'BDD logt'!J$11,0) -> 2507.3333 | K26: =IF('BDD logt'!K$11>0,BDD!K26/'BDD logt'!K$11,0) -> 2039.125 | L26: =IF('BDD logt'!L$11>0,BDD!L26/'BDD logt'!L$11,0) -> 1646.1429 | M26: =IF('BDD logt'!M$11>0,BDD!M26/'BDD logt'!M$11,0) -> 1250 | N26: =IF('BDD logt'!N$11>0,BDD!N26/'BDD logt'!N$11,0) -> 0 | ... AJ26: =IF('BDD logt'!AJ$11>0,BDD!AJ26/'BDD logt'!AJ$11,0) -> 0
... A71: =BDD!A71 -> 0 | B71: =BDD!B71 -> 0 | C71: =BDD!C71 -> 0 | D71: =AVERAGEIF(G71:AJ71,"<>0") -> #DIV/0! | E71: {=IF(COUNTIF(G71:AJ71,"<>0")>1,(_xlfn.STDEV.S(IF(G71:AJ71<>0,G71:AJ71)))/D71,0)} -> 0 | F71: =COUNTIF(G71:AJ71,">0")/$E$1 -> 0 | G71: =IF('BDD logt'!G$11>0,BDD!G71/'BDD logt'!G$11,0) -> 0 | H71: =IF('BDD logt'!H$11>0,BDD!H71/'BDD logt'!H$11,0) -> 0 | I71: =IF('BDD logt'!I$11>0,BDD!I71/'BDD logt'!I$11,0) -> 0 | J71: =IF('BDD logt'!J$11>0,BDD!J71/'BDD logt'!J$11,0) -> 0 | K71: =IF('BDD logt'!K$11>0,BDD!K71/'BDD logt'!K$11,0) -> 0 | L71: =IF('BDD logt'!L$11>0,BDD!L71/'BDD logt'!L$11,0) -> 0 | M71: =IF('BDD logt'!M$11>0,BDD!M71/'BDD logt'!M$11,0) -> 0 | N71: =IF('BDD logt'!N$11>0,BDD!N71/'BDD logt'!N$11,0) -> 0 | ... AJ71: =IF('BDD logt'!AJ$11>0,BDD!AJ71/'BDD logt'!AJ$11,0) -> 0
A75: =BDD!A75 -> VRD/EV | B75: =BDD!B75 -> VRD/EV/réseaux ext/terrassements généraux | D75: =AVERAGEIF(G75:AJ75,"<>0") -> 9392.9518 | E75: {=IF(COUNTIF(G75:AJ75,"<>0")>1,(_xlfn.STDEV.S(IF(G75:AJ75<>0,G75:AJ75)))/D75,0)} -> 0.48349263 | G75: =SUMIF($A$15:$A$71,$A75,G$15:G$71) -> 8250.9048 | H75: =SUMIF($A$15:$A$71,$A75,H$15:H$71) -> 8536.68 | I75: =SUMIF($A$15:$A$71,$A75,I$15:I$71) -> 5398.3429 | J75: =SUMIF($A$15:$A$71,$A75,J$15:J$71) -> 17855.583 | K75: =SUMIF($A$15:$A$71,$A75,K$15:K$71) -> 10877.25 | L75: =SUMIF($A$15:$A$71,$A75,L$15:L$71) -> 3943.4571 | M75: =SUMIF($A$15:$A$71,$A75,M$15:M$71) -> 10888.444 | N75: =SUMIF($A$15:$A$71,$A75,N$15:N$71) -> 0 | ... AJ75: =SUMIF($A$15:$A$71,$A75,AJ$15:AJ$71) -> 0
A76: =BDD!A76 -> MGO | B76: =BDD!B76 -> Maçonnerie gros œuvre | D76: =AVERAGEIF(G76:AJ76,"<>0") -> 29266.355 | E76: {=IF(COUNTIF(G76:AJ76,"<>0")>1,(_xlfn.STDEV.S(IF(G76:AJ76<>0,G76:AJ76)))/D76,0)} -> 0.19481644 | G76: =SUMIF($A$15:$A$71,$A76,G$15:G$71) -> 31428.571 | H76: =SUMIF($A$15:$A$71,$A76,H$15:H$71) -> 25140.24 | I76: =SUMIF($A$15:$A$71,$A76,I$15:I$71) -> 25942.857 | J76: =SUMIF($A$15:$A$71,$A76,J$15:J$71) -> 36516.667 | K76: =SUMIF($A$15:$A$71,$A76,K$15:K$71) -> 21849.75 | L76: =SUMIF($A$15:$A$71,$A76,L$15:L$71) -> 36457.343 | M76: =SUMIF($A$15:$A$71,$A76,M$15:M$71) -> 27529.056 | N76: =SUMIF($A$15:$A$71,$A76,N$15:N$71) -> 0 | ... AJ76: =SUMIF($A$15:$A$71,$A76,AJ$15:AJ$71) -> 0
A77: =BDD!A77 -> CC | B77: =BDD!B77 -> Clos couvert / Enveloppe | D77: =AVERAGEIF(G77:AJ77,"<>0") -> 15008.702 | E77: {=IF(COUNTIF(G77:AJ77,"<>0")>1,(_xlfn.STDEV.S(IF(G77:AJ77<>0,G77:AJ77)))/D77,0)} -> 0.32614498 | G77: =SUMIF($A$15:$A$71,$A77,G$15:G$71) -> 13105.714 | H77: =SUMIF($A$15:$A$71,$A77,H$15:H$71) -> 15943.28 | I77: =SUMIF($A$15:$A$71,$A77,I$15:I$71) -> 10664.2 | J77: =SUMIF($A$15:$A$71,$A77,J$15:J$71) -> 12862.417 | K77: =SUMIF($A$15:$A$71,$A77,K$15:K$71) -> 25521.125 | L77: =SUMIF($A$15:$A$71,$A77,L$15:L$71) -> 14038.286 | M77: =SUMIF($A$15:$A$71,$A77,M$15:M$71) -> 12925.889 | N77: =SUMIF($A$15:$A$71,$A77,N$15:N$71) -> 0 | ... AJ77: =SUMIF($A$15:$A$71,$A77,AJ$15:AJ$71) -> 0
A78: =BDD!A78 -> PI | B78: =BDD!B78 -> Parties intérieures | D78: =AVERAGEIF(G78:AJ78,"<>0") -> 11548.294 | E78: {=IF(COUNTIF(G78:AJ78,"<>0")>1,(_xlfn.STDEV.S(IF(G78:AJ78<>0,G78:AJ78)))/D78,0)} -> 0.093702473 | G78: =SUMIF($A$15:$A$71,$A78,G$15:G$71) -> 12295.286 | H78: =SUMIF($A$15:$A$71,$A78,H$15:H$71) -> 11536.96 | I78: =SUMIF($A$15:$A$71,$A78,I$15:I$71) -> 11001.257 | J78: =SUMIF($A$15:$A$71,$A78,J$15:J$71) -> 12972.75 | K78: =SUMIF($A$15:$A$71,$A78,K$15:K$71) -> 12473.875 | L78: =SUMIF($A$15:$A$71,$A78,L$15:L$71) -> 10452.371 | M78: =SUMIF($A$15:$A$71,$A78,M$15:M$71) -> 10105.556 | N78: =SUMIF($A$15:$A$71,$A78,N$15:N$71) -> 0 | ... AJ78: =SUMIF($A$15:$A$71,$A78,AJ$15:AJ$71) -> 0
A79: =BDD!A79 -> ISO | B79: =BDD!B79 -> Isolation | D79: =AVERAGEIF(G79:AJ79,"<>0") -> 7496.9359 | E79: {=IF(COUNTIF(G79:AJ79,"<>0")>1,(_xlfn.STDEV.S(IF(G79:AJ79<>0,G79:AJ79)))/D79,0)} -> 0.45136727 | G79: =SUMIF($A$15:$A$71,$A79,G$15:G$71) -> 12590.238 | H79: =SUMIF($A$15:$A$71,$A79,H$15:H$71) -> 3918.52 | I79: =SUMIF($A$15:$A$71,$A79,I$15:I$71) -> 4763.9714 | J79: =SUMIF($A$15:$A$71,$A79,J$15:J$71) -> 9068.25 | K79: =SUMIF($A$15:$A$71,$A79,K$15:K$71) -> 10599.875 | L79: =SUMIF($A$15:$A$71,$A79,L$15:L$71) -> 7255.0857 | M79: =SUMIF($A$15:$A$71,$A79,M$15:M$71) -> 4282.6111 | N79: =SUMIF($A$15:$A$71,$A79,N$15:N$71) -> 0 | ... AJ79: =SUMIF($A$15:$A$71,$A79,AJ$15:AJ$71) -> 0
A80: =BDD!A80 -> CHAUF | B80: =BDD!B80 -> Chauffage / VMC | D80: =AVERAGEIF(G80:AJ80,"<>0") -> 7082.5742 | E80: {=IF(COUNTIF(G80:AJ80,"<>0")>1,(_xlfn.STDEV.S(IF(G80:AJ80<>0,G80:AJ80)))/D80,0)} -> 0.29727924 | G80: =SUMIF($A$15:$A$71,$A80,G$15:G$71) -> 6749.3333 | H80: =SUMIF($A$15:$A$71,$A80,H$15:H$71) -> 5276.84 | I80: =SUMIF($A$15:$A$71,$A80,I$15:I$71) -> 5601.4571 | J80: =SUMIF($A$15:$A$71,$A80,J$15:J$71) -> 11422 | K80: =SUMIF($A$15:$A$71,$A80,K$15:K$71) -> 7890.5 | L80: =SUMIF($A$15:$A$71,$A80,L$15:L$71) -> 6757 | M80: =SUMIF($A$15:$A$71,$A80,M$15:M$71) -> 5880.8889 | N80: =SUMIF($A$15:$A$71,$A80,N$15:N$71) -> 0 | ... AJ80: =SUMIF($A$15:$A$71,$A80,AJ$15:AJ$71) -> 0
A81: =BDD!A81 -> PLB/SANI | B81: =BDD!B81 -> Plomberie / Sanitaire | D81: =AVERAGEIF(G81:AJ81,"<>0") -> 5002.7585 | E81: {=IF(COUNTIF(G81:AJ81,"<>0")>1,(_xlfn.STDEV.S(IF(G81:AJ81<>0,G81:AJ81)))/D81,0)} -> 0.1167099 | G81: =SUMIF($A$15:$A$71,$A81,G$15:G$71) -> 5070.6667 | H81: =SUMIF($A$15:$A$71,$A81,H$15:H$71) -> 4128.76 | I81: =SUMIF($A$15:$A$71,$A81,I$15:I$71) -> 4769.1143 | J81: =SUMIF($A$15:$A$71,$A81,J$15:J$71) -> 5730.8333 | K81: =SUMIF($A$15:$A$71,$A81,K$15:K$71) -> 5225 | L81: =SUMIF($A$15:$A$71,$A81,L$15:L$71) -> 5612.6571 | M81: =SUMIF($A$15:$A$71,$A81,M$15:M$71) -> 4482.2778 | N81: =SUMIF($A$15:$A$71,$A81,N$15:N$71) -> 0 | ... AJ81: =SUMIF($A$15:$A$71,$A81,AJ$15:AJ$71) -> 0
A82: =BDD!A82 -> ELEC | B82: =BDD!B82 -> Electricité | D82: =AVERAGEIF(G82:AJ82,"<>0") -> 6839.1299 | E82: {=IF(COUNTIF(G82:AJ82,"<>0")>1,(_xlfn.STDEV.S(IF(G82:AJ82<>0,G82:AJ82)))/D82,0)} -> 0.22062776 | G82: =SUMIF($A$15:$A$71,$A82,G$15:G$71) -> 7444.5238 | H82: =SUMIF($A$15:$A$71,$A82,H$15:H$71) -> 5879 | I82: =SUMIF($A$15:$A$71,$A82,I$15:I$71) -> 4881.3714 | J82: =SUMIF($A$15:$A$71,$A82,J$15:J$71) -> 8706.5833 | K82: =SUMIF($A$15:$A$71,$A82,K$15:K$71) -> 8304.375 | L82: =SUMIF($A$15:$A$71,$A82,L$15:L$71) -> 7421 | M82: =SUMIF($A$15:$A$71,$A82,M$15:M$71) -> 5237.0556 | N82: =SUMIF($A$15:$A$71,$A82,N$15:N$71) -> 0 | ... AJ82: =SUMIF($A$15:$A$71,$A82,AJ$15:AJ$71) -> 0
A83: =BDD!A83 -> AUTRE | B83: =BDD!B83 -> Autres | D83: =AVERAGEIF(G83:AJ83,"<>0") -> 1259.9104 | E83: {=IF(COUNTIF(G83:AJ83,"<>0")>1,(_xlfn.STDEV.S(IF(G83:AJ83<>0,G83:AJ83)))/D83,0)} -> 0.73944669 | G83: =SUMIF($A$15:$A$71,$A83,G$15:G$71) -> 663.33333 | H83: =SUMIF($A$15:$A$71,$A83,H$15:H$71) -> 520.68 | I83: =SUMIF($A$15:$A$71,$A83,I$15:I$71) -> 1040.8571 | J83: =SUMIF($A$15:$A$71,$A83,J$15:J$71) -> 1783.3333 | K83: =SUMIF($A$15:$A$71,$A83,K$15:K$71) -> 249.375 | L83: =SUMIF($A$15:$A$71,$A83,L$15:L$71) -> 1618.5714 | M83: =SUMIF($A$15:$A$71,$A83,M$15:M$71) -> 2943.2222 | N83: =SUMIF($A$15:$A$71,$A83,N$15:N$71) -> 0 | ... AJ83: =SUMIF($A$15:$A$71,$A83,AJ$15:AJ$71) -> 0
A84: =BDD!A84 -> NC | B84: =BDD!B84 -> Non classé | D84: =AVERAGEIF(G84:AJ84,"<>0") -> 6462.1625 | E84: {=IF(COUNTIF(G84:AJ84,"<>0")>1,(_xlfn.STDEV.S(IF(G84:AJ84<>0,G84:AJ84)))/D84,0)} -> 0.74230422 | G84: =SUMIF($A$15:$A$71,$A84,G$15:G$71) -> 0 | H84: =SUMIF($A$15:$A$71,$A84,H$15:H$71) -> 3728.4 | I84: =SUMIF($A$15:$A$71,$A84,I$15:I$71) -> 0 | J84: =SUMIF($A$15:$A$71,$A84,J$15:J$71) -> 1146 | K84: =SUMIF($A$15:$A$71,$A84,K$15:K$71) -> 9818.25 | L84: =SUMIF($A$15:$A$71,$A84,L$15:L$71) -> 0 | M84: =SUMIF($A$15:$A$71,$A84,M$15:M$71) -> 11156 | N84: =SUMIF($A$15:$A$71,$A84,N$15:N$71) -> 0 | ... AJ84: =SUMIF($A$15:$A$71,$A84,AJ$15:AJ$71) -> 0

Sheet Fiche Confrontation
C1: CONFRONTATION CHIFFRAGE | G1: Version 1.0 (BDD du 08.04.2021)
A3: Nom programme :
A4: Adresse :
A5: Département :
A6: N° OP :
A7: Respo programme :
A8: Date :
A9: Nombre logts :
A10: Shab [m²] :
B12: Compléter | D12: Marché € HT | E12: % Total | F12: € HT /m² shab | G12: Moy BDD /m² shab | H12: Stabilité (Coeff var°) | I12: Ecart /m² shab | J12: Ecart %
A14: Famille | B14: n° LOT | C14: LOT | D14: =SUM(D15:D49) -> 0 | E14: =SUM(E15:E49) -> #DIV/0! | F14: =SUM(F15:F49) -> #DIV/0! | G14: ='BDD shab'!D14 -> 1484.6831 | H14: ='BDD shab'!E14 -> 0.10313365 | I14: =F14-G14 -> #DIV/0! | J14: =I14/G14 -> #DIV/0!
A15: =BDD!A15 -> AUTRE | B15: =BDD!B15 -> 1 | C15: =BDD!C15 -> Démolitions | E15: =D15/$D$14 -> #DIV/0! | F15: =D15/$C$10 -> #DIV/0! | G15: ='BDD shab'!D15 -> 32.563804 | H15: ='BDD shab'!E15 -> 0.44134161 | I15: =IF(D15=0,0,F15-G15) -> 0 | J15: =I15/G15 -> 0
A16: =BDD!A16 -> VRD/EV | B16: =BDD!B16 -> 2 | C16: =BDD!C16 -> Terrassements généraux | E16: =D16/$D$14 -> #DIV/0! | F16: =D16/$C$10 -> #DIV/0! | G16: ='BDD shab'!D16 -> 47.588157 | H16: ='BDD shab'!E16 -> 0.22085748 | I16: =IF(D16=0,0,F16-G16) -> 0 | J16: =I16/G16 -> 0
A17: =BDD!A17 -> MGO | B17: =BDD!B17 -> 3 | C17: =BDD!C17 -> Maçonnerie Gros œuvre | E17: =D17/$D$14 -> #DIV/0! | F17: =D17/$C$10 -> #DIV/0! | G17: ='BDD shab'!D17 -> 452.81513 | H17: ='BDD shab'!E17 -> 0.19034812 | I17: =IF(D17=0,0,F17-G17) -> 0 | J17: =I17/G17 -> 0
A18: =BDD!A18 -> VRD/EV | B18: =BDD!B18 -> 4a | C18: =BDD!C18 -> Terrassement / Voirie | E18: =D18/$D$14 -> #DIV/0! | F18: =D18/$C$10 -> #DIV/0! | G18: ='BDD shab'!D18 -> 65.825145 | H18: ='BDD shab'!E18 -> 0.31776333 | I18: =IF(D18=0,0,F18-G18) -> 0 | J18: =I18/G18 -> 0
A19: =BDD!A19 -> VRD/EV | B19: =BDD!B19 -> 4b | C19: =BDD!C19 -> Réseaux Extérieurs | E19: =D19/$D$14 -> #DIV/0! | F19: =D19/$C$10 -> #DIV/0! | G19: ='BDD shab'!D19 -> 63.768853 | H19: ='BDD shab'!E19 -> 0.67843454 | I19: =IF(D19=0,0,F19-G19) -> 0 | J19: =I19/G19 -> 0
A20: =BDD!A20 -> CC | B20: =BDD!B20 -> 5 | C20: =BDD!C20 -> Charpente / Femettes | E20: =D20/$D$14 -> #DIV/0! | F20: =D20/$C$10 -> #DIV/0! | G20: ='BDD shab'!D20 -> 34.121575 | H20: ='BDD shab'!E20 -> 0.6730842 | I20: =IF(D20=0,0,F20-G20) -> 0 | J20: =I20/G20 -> 0
A21: =BDD!A21 -> CC | B21: =BDD!B21 -> 6 | C21: =BDD!C21 -> Couverture / Zinguerie | E21: =D21/$D$14 -> #DIV/0! | F21: =D21/$C$10 -> #DIV/0! | G21: ='BDD shab'!D21 -> 63.355505 | H21: ='BDD shab'!E21 -> 0.61810629 | I21: =IF(D21=0,0,F21-G21) -> 0 | J21: =I21/G21 -> 0
A22: =BDD!A22 -> CC | B22: =BDD!B22 -> 7 | C22: =BDD!C22 -> Etanchéité | E22: =D22/$D$14 -> #DIV/0! | F22: =D22/$C$10 -> #DIV/0! | G22: ='BDD shab'!D22 -> 62.866995 | H22: ='BDD shab'!E22 -> 0.45659039 | I22: =IF(D22=0,0,F22-G22) -> 0 | J22: =I22/G22 -> 0
A23: =BDD!A23 -> CC | B23: =BDD!B23 -> 8 | C23: =BDD!C23 -> Menuiseries extérieures PVC | E23: =D23/$D$14 -> #DIV/0! | F23: =D23/$C$10 -> #DIV/0! | G23: ='BDD shab'!D23 -> 63.08592 | H23: ='BDD shab'!E23 -> 0.20752007 | I23: =IF(D23=0,0,F23-G23) -> 0 | J23: =I23/G23 -> 0
A24: =BDD!A24 -> PI | B24: =BDD!B24 -> 9 | C24: =BDD!C24 -> Menuiseries intérieures | E24: =D24/$D$14 -> #DIV/0! | F24: =D24/$C$10 -> #DIV/0! | G24: ='BDD shab'!D24 -> 58.636822 | H24: ='BDD shab'!E24 -> 0.12308923 | I24: =IF(D24=0,0,F24-G24) -> 0 | J24: =I24/G24 -> 0
A25: =BDD!A25 -> ISO | B25: =BDD!B25 -> 10 | C25: =BDD!C25 -> Cloisons / Doublages / Isolation | E25: =D25/$D$14 -> #DIV/0! | F25: =D25/$C$10 -> #DIV/0! | G25: ='BDD shab'!D25 -> 67.962625 | H25: ='BDD shab'!E25 -> 0.31464703 | I25: =IF(D25=0,0,F25-G25) -> 0 | J25: =I25/G25 -> 0
A26: =BDD!A26 -> PI | B26: =BDD!B26 -> 11 | C26: =BDD!C26 -> Revêtements de sol collés | E26: =D26/$D$14 -> #DIV/0! | F26: =D26/$C$10 -> #DIV/0! | G26: ='BDD shab'!D26 -> 28.605446 | H26: ='BDD shab'!E26 -> 0.15710343 | I26: =IF(D26=0,0,F26-G26) -> 0 | J26: =I26/G26 -> 0
... A46: =BDD!A46 -> NC | B46: =BDD!B46 -> 2B | C46: =BDD!C46 -> Fondation spéciale pieu sécant | E46: =D46/$D$14 -> #DIV/0! | F46: =D46/$C$10 -> #DIV/0! | G46: ='BDD shab'!D46 -> 186.7113 | H46: ='BDD shab'!E46 -> 0 | I46: =IF(D46=0,0,F46-G46) -> 0 | J46: =I46/G46 -> 0
A47: <= Insérer puis étendre pour actualiser la liste de lots
A48: Lot Spé | E48: =D48/$D$14 -> #DIV/0! | F48: =D48/$C$10 -> #DIV/0!
A49: <= Insérer puis compléter pour ajouter un lot singulier
A52: =BDD!A75 -> VRD/EV | B52: =BDD!B75 -> VRD/EV/réseaux ext/terrassements généraux | D52: =SUMIF($A$15:$A$49,$A52,$D$15:$D$49) -> 0 | E52: =D52/$D$14 -> #DIV/0! | F52: =D52/$C$10 -> #DIV/0! | G52: ='BDD shab'!D75 -> 143.07532 | H52: ='BDD shab'!E75 -> 0.43704181 | I52: =IF(D52=0,0,F52-G52) -> 0 | J52: =I52/G52 -> 0
A53: =BDD!A76 -> MGO | B53: =BDD!B76 -> Maçonnerie gros œuvre | D53: =SUMIF($A$15:$A$49,$A53,$D$15:$D$49) -> 0 | E53: =D53/$D$14 -> #DIV/0! | F53: =D53/$C$10 -> #DIV/0! | G53: ='BDD shab'!D76 -> 452.81513 | H53: ='BDD shab'!E76 -> 0.19034812 | I53: =IF(D53=0,0,F53-G53) -> 0 | J53: =I53/G53 -> 0
A54: =BDD!A77 -> CC | B54: =BDD!B77 -> Clos couvert / Enveloppe | D54: =SUMIF($A$15:$A$49,$A54,$D$15:$D$49) -> 0 | E54: =D54/$D$14 -> #DIV/0! | F54: =D54/$C$10 -> #DIV/0! | G54: ='BDD shab'!D77 -> 230.01856 | H54: ='BDD shab'!E77 -> 0.27321299 | I54: =IF(D54=0,0,F54-G54) -> 0 | J54: =I54/G54 -> 0
A55: =BDD!A78 -> PI | B55: =BDD!B78 -> Parties intérieures | D55: =SUMIF($A$15:$A$49,$A55,$D$15:$D$49) -> 0 | E55: =D55/$D$14 -> #DIV/0! | F55: =D55/$C$10 -> #DIV/0! | G55: ='BDD shab'!D78 -> 178.07614 | H55: ='BDD shab'!E78 -> 0.047789031 | I55: =IF(D55=0,0,F55-G55) -> 0 | J55: =I55/G55 -> 0
A56: =BDD!A79 -> ISO | B56: =BDD!B79 -> Isolation | D56: =SUMIF($A$15:$A$49,$A56,$D$15:$D$49) -> 0 | E56: =D56/$D$14 -> #DIV/0! | F56: =D56/$C$10 -> #DIV/0! | G56: ='BDD shab'!D79 -> 113.54903 | H56: ='BDD shab'!E79 -> 0.40483093 | I56: =IF(D56=0,0,F56-G56) -> 0 | J56: =I56/G56 -> 0
A57: =BDD!A80 -> CHAUF | B57: =BDD!B80 -> Chauffage / VMC | D57: =SUMIF($A$15:$A$49,$A57,$D$15:$D$49) -> 0 | E57: =D57/$D$14 -> #DIV/0! | F57: =D57/$C$10 -> #DIV/0! | G57: ='BDD shab'!D80 -> 108.14907 | H57: ='BDD shab'!E80 -> 0.23127292 | I57: =IF(D57=0,0,F57-G57) -> 0 | J57: =I57/G57 -> 0
A58: =BDD!A81 -> PLB/SANI | B58: =BDD!B81 -> Plomberie / Sanitaire | D58: =SUMIF($A$15:$A$49,$A58,$D$15:$D$49) -> 0 | E58: =D58/$D$14 -> #DIV/0! | F58: =D58/$C$10 -> #DIV/0! | G58: ='BDD shab'!D81 -> 77.148645 | H58: ='BDD shab'!E81 -> 0.087596233 | I58: =IF(D58=0,0,F58-G58) -> 0 | J58: =I58/G58 -> 0
A59: =BDD!A82 -> ELEC | B59: =BDD!B82 -> Electricité | D59: =SUMIF($A$15:$A$49,$A59,$D$15:$D$49) -> 0 | E59: =D59/$D$14 -> #DIV/0! | F59: =D59/$C$10 -> #DIV/0! | G59: ='BDD shab'!D82 -> 104.66886 | H59: ='BDD shab'!E82 -> 0.15972385 | I59: =IF(D59=0,0,F59-G59) -> 0 | J59: =I59/G59 -> 0
A60: =BDD!A83 -> AUTRE | B60: =BDD!B83 -> Autres | D60: =SUMIF($A$15:$A$49,$A60,$D$15:$D$49) -> 0 | E60: =D60/$D$14 -> #DIV/0! | F60: =D60/$C$10 -> #DIV/0! | G60: ='BDD shab'!D83 -> 19.88319 | H60: ='BDD shab'!E83 -> 0.77627765 | I60: =IF(D60=0,0,F60-G60) -> 0 | J60: =I60/G60 -> 0
A61: =BDD!A84 -> NC | B61: =BDD!B84 -> Non classé | D61: =SUMIF($A$15:$A$49,$A61,$D$15:$D$49) -> 0 | E61: =D61/$D$14 -> #DIV/0! | F61: =D61/$C$10 -> #DIV/0! | G61: ='BDD shab'!D84 -> 100.27349 | H61: ='BDD shab'!E84 -> 0.76079129 | I61: =IF(D61=0,0,F61-G61) -> 0 | J61: =I61/G61 -> 0

Sheet Feuil0
A1: BASE DE DONNEES | D1: Taille BDD : | E1: =BDD!E1 -> 7
